BEGIN:VCALENDAR
VERSION:2.0
PRODID:-//Mark Towns - ECPv6.15.20//NONSGML v1.0//EN
CALSCALE:GREGORIAN
METHOD:PUBLISH
X-WR-CALNAME:Mark Towns
X-ORIGINAL-URL:https://marktowns.com
X-WR-CALDESC:Events for Mark Towns
REFRESH-INTERVAL;VALUE=DURATION:PT1H
X-Robots-Tag:noindex
X-PUBLISHED-TTL:PT1H
BEGIN:VTIMEZONE
TZID:America/Los_Angeles
BEGIN:DAYLIGHT
TZOFFSETFROM:-0800
TZOFFSETTO:-0700
TZNAME:PDT
DTSTART:20250309T100000
END:DAYLIGHT
BEGIN:STANDARD
TZOFFSETFROM:-0700
TZOFFSETTO:-0800
TZNAME:PST
DTSTART:20251102T090000
END:STANDARD
BEGIN:DAYLIGHT
TZOFFSETFROM:-0800
TZOFFSETTO:-0700
TZNAME:PDT
DTSTART:20260308T100000
END:DAYLIGHT
BEGIN:STANDARD
TZOFFSETFROM:-0700
TZOFFSETTO:-0800
TZNAME:PST
DTSTART:20261101T090000
END:STANDARD
BEGIN:DAYLIGHT
TZOFFSETFROM:-0800
TZOFFSETTO:-0700
TZNAME:PDT
DTSTART:20270314T100000
END:DAYLIGHT
BEGIN:STANDARD
TZOFFSETFROM:-0700
TZOFFSETTO:-0800
TZNAME:PST
DTSTART:20271107T090000
END:STANDARD
END:VTIMEZONE
BEGIN:VEVENT
DTSTART;TZID=America/Los_Angeles:20260221T190000
DTEND;TZID=America/Los_Angeles:20260221T213000
DTSTAMP:20260425T041843
CREATED:20250806T002957Z
LAST-MODIFIED:20251123T063043Z
UID:2368-1771700400-1771709400@marktowns.com
SUMMARY:Mark Towns with Cybill Shepherd @ Palm Springs Cultural Center Sat. February 21 - 7PM
DESCRIPTION:Mark Towns with Cybill ShepherdSaturday\, February 21\, 20267:00 PMPalm Springs Cultural Center – Palm Springs\, CA \nMark Towns performs on bass with the legendary Cybill Shepherd for an evening of music at the Palm Springs Cultural Center. \nTickets & Info: palmspringsculturalcenter.org
URL:https://marktowns.com/event/mark-towns-with-cybill-shepherd-palm-springs-cultural-center-sat-11-22-7pm/
LOCATION:Palm Springs Cultural Center\, 2300 E Baristo Rd.\, Palm Springs\, CA\, 92262\, United States
END:VEVENT
END:VCALENDAR