BEGIN:VCALENDAR
VERSION:2.0
PRODID:-//Mark Towns - ECPv6.15.20//NONSGML v1.0//EN
CALSCALE:GREGORIAN
METHOD:PUBLISH
X-WR-CALNAME:Mark Towns
X-ORIGINAL-URL:https://marktowns.com
X-WR-CALDESC:Events for Mark Towns
REFRESH-INTERVAL;VALUE=DURATION:PT1H
X-Robots-Tag:noindex
X-PUBLISHED-TTL:PT1H
BEGIN:VTIMEZONE
TZID:America/Chicago
BEGIN:DAYLIGHT
TZOFFSETFROM:-0600
TZOFFSETTO:-0500
TZNAME:CDT
DTSTART:20240310T080000
END:DAYLIGHT
BEGIN:STANDARD
TZOFFSETFROM:-0500
TZOFFSETTO:-0600
TZNAME:CST
DTSTART:20241103T070000
END:STANDARD
BEGIN:DAYLIGHT
TZOFFSETFROM:-0600
TZOFFSETTO:-0500
TZNAME:CDT
DTSTART:20250309T080000
END:DAYLIGHT
BEGIN:STANDARD
TZOFFSETFROM:-0500
TZOFFSETTO:-0600
TZNAME:CST
DTSTART:20251102T070000
END:STANDARD
BEGIN:DAYLIGHT
TZOFFSETFROM:-0600
TZOFFSETTO:-0500
TZNAME:CDT
DTSTART:20260308T080000
END:DAYLIGHT
BEGIN:STANDARD
TZOFFSETFROM:-0500
TZOFFSETTO:-0600
TZNAME:CST
DTSTART:20261101T070000
END:STANDARD
END:VTIMEZONE
BEGIN:VEVENT
DTSTART;TZID=America/Chicago:20250713T150000
DTEND;TZID=America/Chicago:20250713T170000
DTSTAMP:20260425T133540
CREATED:20250630T191511Z
LAST-MODIFIED:20250711T020150Z
UID:2304-1752418800-1752426000@marktowns.com
SUMMARY:Mark Towns Flamenco Jazz Unplugged! Sunday 7/13 @ Emmit's Place HTX 3pm-5pm
DESCRIPTION:Don’t miss this rare opportunity to hear Mark Towns up close and personal in a setting that highlights the subtle nuance\, tone\, and expression at the heart of his virtuosity.\nMark Towns Flamenco Jazz –  Solo & Unplugged\nSunday afternoon 7/13/25 from 3-5pm\nEmmit’s Place\n4852 Benning Dr\, Houston\, TX 77035\n(713) 728-0012\n$10 Cover Charge
URL:https://marktowns.com/event/mark-towns-flamenco-jazz-unplugged-sunday-7-13-emmits-place-htx-3pm-5pm/
LOCATION:Emmit’s Place\, 4852 Benning Dr.\, Houston\, TX\, 77035\, United States
END:VEVENT
END:VCALENDAR