BEGIN:VCALENDAR
VERSION:2.0
PRODID:-//Mark Towns - ECPv6.15.20//NONSGML v1.0//EN
CALSCALE:GREGORIAN
METHOD:PUBLISH
X-ORIGINAL-URL:https://marktowns.com
X-WR-CALDESC:Events for Mark Towns
REFRESH-INTERVAL;VALUE=DURATION:PT1H
X-Robots-Tag:noindex
X-PUBLISHED-TTL:PT1H
BEGIN:VTIMEZONE
TZID:America/Los_Angeles
BEGIN:DAYLIGHT
TZOFFSETFROM:-0800
TZOFFSETTO:-0700
TZNAME:PDT
DTSTART:20240310T100000
END:DAYLIGHT
BEGIN:STANDARD
TZOFFSETFROM:-0700
TZOFFSETTO:-0800
TZNAME:PST
DTSTART:20241103T090000
END:STANDARD
BEGIN:DAYLIGHT
TZOFFSETFROM:-0800
TZOFFSETTO:-0700
TZNAME:PDT
DTSTART:20250309T100000
END:DAYLIGHT
BEGIN:STANDARD
TZOFFSETFROM:-0700
TZOFFSETTO:-0800
TZNAME:PST
DTSTART:20251102T090000
END:STANDARD
BEGIN:DAYLIGHT
TZOFFSETFROM:-0800
TZOFFSETTO:-0700
TZNAME:PDT
DTSTART:20260308T100000
END:DAYLIGHT
BEGIN:STANDARD
TZOFFSETFROM:-0700
TZOFFSETTO:-0800
TZNAME:PST
DTSTART:20261101T090000
END:STANDARD
END:VTIMEZONE
BEGIN:VEVENT
DTSTART;TZID=America/Los_Angeles:20250327T190000
DTEND;TZID=America/Los_Angeles:20250327T230000
DTSTAMP:20260425T184941
CREATED:20250120T215859Z
LAST-MODIFIED:20250120T215859Z
UID:2116-1743102000-1743116400@marktowns.com
SUMMARY:Mark Towns with Oscar Hernandez Latin Jazz Band @ Catalina Jazz Club Hollywood Thu. March 27
DESCRIPTION:Join us for a special evening with Grammy-winning pianist and arranger Oscar Hernandez and his Latin Jazz Band for Oscar’s annual birthday celebration and performance at Catalina Jazz Club in Hollywood\, CA\, on Thursday\, March 27\, 2025. Mark Towns (guitar) will once again be a featured guest artist\, marking his third consecutive year performing in this exciting event. Don’t miss this unforgettable night of Latin jazz!
URL:https://marktowns.com/event/mark-towns-with-oscar-hernandez-latin-jazz-band-catalina-jazz-club-hollywood-thu-march-27/
LOCATION:Catalina Jazz Club\, 6725 Sunset Blvd.\, Hollywood\, CA\, 90028\, United States
END:VEVENT
BEGIN:VEVENT
DTSTART;TZID=America/Los_Angeles:20250330T153000
DTEND;TZID=America/Los_Angeles:20250330T170000
DTSTAMP:20260425T184941
CREATED:20250120T232714Z
LAST-MODIFIED:20250128T064733Z
UID:2126-1743348600-1743354000@marktowns.com
SUMMARY:Mark Towns Latin Jazz Quintet @ Bayou City Art Festival (Houston) Sunday March 30 (3:30-5pm)
DESCRIPTION:Experience the excitement of the Mark Towns Latin Jazz Quintet at the Bayou City Art Festival! Join them at Sam Houston Park in downtown Houston on Sunday\, March 30\, 2025\, from 3:30 PM to 5:00 PM for a dynamic performance of world-class Latin jazz. \nThe quintet features: \n• Mark Towns – Guitar \n• Rainel Pino – Keyboards \n• Cro Cro Orta – Congas \n• Felix Luna – Bass \n• Jorge Lebron – Drums\, Timbales \nDon’t miss this incredible blend of rhythm and artistry at one of Houston’s most celebrated art and music events!
URL:https://marktowns.com/event/mark-towns-flamenco-jazz-trio-bayou-city-art-festival-houston-sunday-march-30-330-5pm/
LOCATION:Sam Houston Park – Houston\, 1000 Bagby St.\, Houston\, TX\, 77002\, United States
END:VEVENT
END:VCALENDAR