BEGIN:VCALENDAR
VERSION:2.0
PRODID:-//Mark Towns - ECPv6.15.20//NONSGML v1.0//EN
CALSCALE:GREGORIAN
METHOD:PUBLISH
X-WR-CALNAME:Mark Towns
X-ORIGINAL-URL:https://marktowns.com
X-WR-CALDESC:Events for Mark Towns
REFRESH-INTERVAL;VALUE=DURATION:PT1H
X-Robots-Tag:noindex
X-PUBLISHED-TTL:PT1H
BEGIN:VTIMEZONE
TZID:America/Los_Angeles
BEGIN:DAYLIGHT
TZOFFSETFROM:-0800
TZOFFSETTO:-0700
TZNAME:PDT
DTSTART:20160313T100000
END:DAYLIGHT
BEGIN:STANDARD
TZOFFSETFROM:-0700
TZOFFSETTO:-0800
TZNAME:PST
DTSTART:20161106T090000
END:STANDARD
BEGIN:DAYLIGHT
TZOFFSETFROM:-0800
TZOFFSETTO:-0700
TZNAME:PDT
DTSTART:20170312T100000
END:DAYLIGHT
BEGIN:STANDARD
TZOFFSETFROM:-0700
TZOFFSETTO:-0800
TZNAME:PST
DTSTART:20171105T090000
END:STANDARD
BEGIN:DAYLIGHT
TZOFFSETFROM:-0800
TZOFFSETTO:-0700
TZNAME:PDT
DTSTART:20180311T100000
END:DAYLIGHT
BEGIN:STANDARD
TZOFFSETFROM:-0700
TZOFFSETTO:-0800
TZNAME:PST
DTSTART:20181104T090000
END:STANDARD
BEGIN:DAYLIGHT
TZOFFSETFROM:-0800
TZOFFSETTO:-0700
TZNAME:PDT
DTSTART:20190310T100000
END:DAYLIGHT
BEGIN:STANDARD
TZOFFSETFROM:-0700
TZOFFSETTO:-0800
TZNAME:PST
DTSTART:20191103T090000
END:STANDARD
END:VTIMEZONE
BEGIN:VTIMEZONE
TZID:America/Los_Angeles
BEGIN:DAYLIGHT
TZOFFSETFROM:-0800
TZOFFSETTO:-0700
TZNAME:PDT
DTSTART:20170312T100000
END:DAYLIGHT
BEGIN:STANDARD
TZOFFSETFROM:-0700
TZOFFSETTO:-0800
TZNAME:PST
DTSTART:20171105T090000
END:STANDARD
BEGIN:DAYLIGHT
TZOFFSETFROM:-0800
TZOFFSETTO:-0700
TZNAME:PDT
DTSTART:20180311T100000
END:DAYLIGHT
BEGIN:STANDARD
TZOFFSETFROM:-0700
TZOFFSETTO:-0800
TZNAME:PST
DTSTART:20181104T090000
END:STANDARD
BEGIN:DAYLIGHT
TZOFFSETFROM:-0800
TZOFFSETTO:-0700
TZNAME:PDT
DTSTART:20190310T100000
END:DAYLIGHT
BEGIN:STANDARD
TZOFFSETFROM:-0700
TZOFFSETTO:-0800
TZNAME:PST
DTSTART:20191103T090000
END:STANDARD
END:VTIMEZONE
BEGIN:VTIMEZONE
TZID:America/New_York
BEGIN:DAYLIGHT
TZOFFSETFROM:-0500
TZOFFSETTO:-0400
TZNAME:EDT
DTSTART:20160313T070000
END:DAYLIGHT
BEGIN:STANDARD
TZOFFSETFROM:-0400
TZOFFSETTO:-0500
TZNAME:EST
DTSTART:20161106T060000
END:STANDARD
BEGIN:DAYLIGHT
TZOFFSETFROM:-0500
TZOFFSETTO:-0400
TZNAME:EDT
DTSTART:20170312T070000
END:DAYLIGHT
BEGIN:STANDARD
TZOFFSETFROM:-0400
TZOFFSETTO:-0500
TZNAME:EST
DTSTART:20171105T060000
END:STANDARD
BEGIN:DAYLIGHT
TZOFFSETFROM:-0500
TZOFFSETTO:-0400
TZNAME:EDT
DTSTART:20180311T070000
END:DAYLIGHT
BEGIN:STANDARD
TZOFFSETFROM:-0400
TZOFFSETTO:-0500
TZNAME:EST
DTSTART:20181104T060000
END:STANDARD
END:VTIMEZONE
BEGIN:VEVENT
DTSTART;TZID=America/Los_Angeles:20180501T183000
DTEND;TZID=America/Los_Angeles:20180501T223000
DTSTAMP:20260425T185153
CREATED:20180501T122131Z
LAST-MODIFIED:20180501T122131Z
UID:1185-1525199400-1525213800@marktowns.com
SUMMARY:Mark Towns Trio with Vocalist Randi Smith @ Eddie V's CityCentre Tue. 5/1/18
DESCRIPTION:Mark Towns Trio with vocalist Randi Smith perform Latin Jazz\, Bossa Novas\, and more in the lounge at Eddie V’s CityCentre on Tuesday\, May 1\, 2018 (6:30 – 10:30pm). No Cover Charge
URL:https://marktowns.com/event/mark-towns-trio-with-vocalist-randi-smith-eddie-vs-citycentre-tue-5-1-18/
LOCATION:Eddie V’s CityCentre\, 12848 Queensbury Ln.\, Houston\, TX\, 77024\, United States
END:VEVENT
BEGIN:VEVENT
DTSTART;TZID=America/Los_Angeles:20180428T193000
DTEND;TZID=America/Los_Angeles:20180428T233000
DTSTAMP:20260425T185153
CREATED:20180408T144954Z
LAST-MODIFIED:20180408T144954Z
UID:1176-1524943800-1524958200@marktowns.com
SUMMARY:Mark Towns with Karen Briggs @ Martini Blu Jazz Cafe Saturday 4/28
DESCRIPTION:Mark Towns on guitar with phenomenal violinist Karen Briggs and her band at Martini Blu Houston\, featuring Darrell Lavigne (keyboards)\, Jelando Johnson (bass)\, and John Fontenot (drums)
URL:https://marktowns.com/event/mark-towns-with-karen-briggs-martini-blu-jazz-cafe-saturday-4-28/
LOCATION:Martini Blu Jazz Cafe\, 3101 Fountain View Dr.\, Houston\, TX\, 77002\, United States
END:VEVENT
BEGIN:VEVENT
DTSTART;TZID=America/Los_Angeles:20180321T190000
DTEND;TZID=America/Los_Angeles:20180321T230000
DTSTAMP:20260425T185153
CREATED:20180321T140839Z
LAST-MODIFIED:20180321T141227Z
UID:1171-1521658800-1521673200@marktowns.com
SUMMARY:Mark Towns Latin Jazz at Sambuca Houston Wed. 3/21
DESCRIPTION:Mark Towns Latin Jazz with vocalist Randi Smith at Sambuca Houston Wednesday 3/21/18 (7-11pm). Featuring Felix Luna (bass)\, Miles Towns (drums)\, Mark Towns (guitar)\, Randi Smith (guest vocalist). No cover charge
URL:https://marktowns.com/event/mark-towns-latin-jazz-at-sambuca-houston-wed-3-21/
LOCATION:Sambuca Houston\, 909 Texas Ave.\, Houston\, TX\, 77002\, United States
ORGANIZER;CN="":MAILTO:salongo@flash.net
END:VEVENT
BEGIN:VEVENT
DTSTART;TZID=America/Los_Angeles:20180310T110000
DTEND;TZID=America/Los_Angeles:20180310T140000
DTSTAMP:20260425T185153
CREATED:20180220T205820Z
LAST-MODIFIED:20180305T232541Z
UID:1148-1520679600-1520690400@marktowns.com
SUMMARY:Music Biz Workshop by Mark Towns Sat. 3/10/18 at AUN Burbank
DESCRIPTION:What Music Talent Bookers Won’t Tell You\nSaturday\, March 10\, 2018\, 11:00 a.m. – 2:00 p.m.\nVeteran music business insider Mark Towns presents “What Music Talent Bookers Won’t Tell You\,” a workshop designed for singers and musicians\, veterans and newcomers alike\, who want to get more gigs–or land their first one! Have you ever wondered why some music artists seem to always get gigs while others don’t? Find out at this entertaining event! True case studies will be examined\, and talent booker’s insider secrets will be revealed–key information which will allow you to formulate successful strategies for getting what you want from music gig gatekeepers! \nWHAT MUSIC TALENT BOOKERS WON’T TELL YOU  is great for vocalists\, individual musicians\, sidemen\, band leaders\, and groups. If you sing or play an instrument and want to get gigs\, this workshop is for you! Whether you’re a beginner\, a seasoned pro\, or somewhere in between\, you’ll discover valuable information in Mark Towns’ workshop – information that you can use right away! \n\n\nIn WHAT MUSIC TALENT BOOKERS WON’T TELL YOU\, you’ll find out: \n\nHow to find the gig\, how to book the gig\, and how to keep the gig\nWhat talent buyers look for in an EPK\nTrue Case Studies – (don’t do what they did!)\nThe best time to contact talent buyers\nWhat to never say to a booking agent\nWhat talent bookers look for on audio and video demos\nAll this and much more in this fun\, informative workshop!
URL:https://marktowns.com/event/music-business-workshop-by-mark-towns-at-aun-burbank-ca-sat-3-10-18/
LOCATION:Acting Up Network\, 3406 W. Burbank Blvd.\, Burbank\, CA\, 91505
END:VEVENT
BEGIN:VEVENT
DTSTART;TZID=America/Los_Angeles:20180226T210000
DTEND;TZID=America/Los_Angeles:20180227T000000
DTSTAMP:20260425T185153
CREATED:20180130T213033Z
LAST-MODIFIED:20180130T213033Z
UID:1144-1519678800-1519689600@marktowns.com
SUMMARY:Mark Towns 2/26/18 w Ron Bruner's Strange Jazz Universe at Viva Cantina - Burbank
DESCRIPTION:Monday 2/26/18: Mark Towns on with Ron Bruner’s Strange Jazz Universe at Viva Cantina\, Burbank\, CA 9pm-Midnight. No Cover Charge
URL:https://marktowns.com/event/mark-towns-2-26-18-w-ron-bruners-strange-jazz-universe-at-viva-cantina-burbank/
LOCATION:Viva Cantina\, 900 W. Riverside Dr.\, Burbank\, CA\, 91506\, United States
END:VEVENT
BEGIN:VEVENT
DTSTART;TZID=America/Los_Angeles:20180210T123000
DTEND;TZID=America/Los_Angeles:20180210T140000
DTSTAMP:20260425T185153
CREATED:20180119T210231Z
LAST-MODIFIED:20180119T210520Z
UID:1141-1518265800-1518271200@marktowns.com
SUMMARY:Mark Towns Latin Jazz @ Bagby Park\, Houston TX Sat. 2/10 12:30-2pm
DESCRIPTION:Mark Towns Latin Jazz performs a free outdoor show at Bagby Park in Midtown\, Houston Texas on Saturday February 10 (12:30-2pm). Bagby Park is located on the corner of Gray St. and Brazos St.
URL:https://marktowns.com/event/mark-towns-latin-jazz-bagby-park-houston-tx-sat-2-10-1230-2pm/
LOCATION:Bagby Park\, 415 Gray St.\, Houston\, TX\, 77002\, United States
END:VEVENT
BEGIN:VEVENT
DTSTART;TZID=America/Los_Angeles:20180128T150000
DTEND;TZID=America/Los_Angeles:20180128T153000
DTSTAMP:20260425T185153
CREATED:20180119T201515Z
LAST-MODIFIED:20180119T211030Z
UID:1137-1517151600-1517153400@marktowns.com
SUMMARY:Mark Towns Flamenco Jazz @ Godin/NAMM Sun. 1/28 3pm
DESCRIPTION:Mark Towns Flamenco Jazz Band performs at 3:00 p.m. at NAMM in the Godin Room. Free to NAMM attendees.
URL:https://marktowns.com/event/mark-towns-flamenco-jazz-godin-namm-sun-1-28-3pm/
LOCATION:NAMM\, Anaheim Convention Center\, Anaheim\, CA\, United States
END:VEVENT
BEGIN:VEVENT
DTSTART;TZID=America/Los_Angeles:20180117T170000
DTEND;TZID=America/Los_Angeles:20180117T200000
DTSTAMP:20260425T185153
CREATED:20171010T082839Z
LAST-MODIFIED:20180119T211507Z
UID:268-1516208400-1516219200@marktowns.com
SUMMARY:Mark Towns Latin Jazz Quartet featuring Diana Purim
DESCRIPTION:
URL:https://marktowns.com/event/mark-towns-latin-jazz-quartet-featuring-diana-purim-2/
LOCATION:Seven Degrees\, 891 Laguna Canyon Rd\, Laguna Beach\, CA\, 92651\, United States
END:VEVENT
BEGIN:VEVENT
DTSTART;TZID=America/Los_Angeles:20171202T190000
DTEND;TZID=America/Los_Angeles:20171202T220000
DTSTAMP:20260425T185153
CREATED:20171010T082116Z
LAST-MODIFIED:20171010T010909Z
UID:262-1512241200-1512252000@marktowns.com
SUMMARY:Mark Towns Latin Jazz Quartet featuring Diana Purim
DESCRIPTION:
URL:https://marktowns.com/event/mark-towns-latin-jazz-quartet-featuring-diana-purim/
LOCATION:Casa Arjona\, 4515 E. Harvey Way\, Long Beach\, CA\, 90808\, United States
END:VEVENT
BEGIN:VEVENT
DTSTART;TZID=America/Los_Angeles:20171116T193000
DTEND;TZID=America/Los_Angeles:20171116T220000
DTSTAMP:20260425T185153
CREATED:20171010T081808Z
LAST-MODIFIED:20171010T010941Z
UID:258-1510860600-1510869600@marktowns.com
SUMMARY:Mark Towns Latin Jazz Trio
DESCRIPTION:Euro Zambrano (drums)\, Ross Schodek (bass)\, Mark Towns (guitar) \nUse Promo Code BGPLAYER for 50% tickets at https://deepmix.thundertix.com/events
URL:https://marktowns.com/event/mark-towns-latin-jazz-trio/
LOCATION:Jazz at the Blue Guitar\, 1055 Lohman Lane at Arroyo Seco Golf Course\, South Pasadena\, CA\, 91030\, United States
END:VEVENT
BEGIN:VEVENT
DTSTART;TZID=America/New_York:20171112T140000
DTEND;TZID=America/New_York:20171112T180000
DTSTAMP:20260425T185153
CREATED:20171010T081553Z
LAST-MODIFIED:20171010T011043Z
UID:255-1510495200-1510509600@marktowns.com
SUMMARY:Mark Towns guest DJ @ Risotto Festival
DESCRIPTION:
URL:https://marktowns.com/event/mark-towns-guest-dj-risotto-festival/
LOCATION:Houston Design Center\, 7026 Old Katy Rd\, Houston\, TX\, 77024\, United States
END:VEVENT
BEGIN:VEVENT
DTSTART;TZID=America/Los_Angeles:20171028T203000
DTEND;TZID=America/Los_Angeles:20171028T230000
DTSTAMP:20260425T185153
CREATED:20171010T041137Z
LAST-MODIFIED:20171010T011108Z
UID:250-1509222600-1509231600@marktowns.com
SUMMARY:Mark Towns Flamenco Jazz Trio
DESCRIPTION:
URL:https://marktowns.com/event/mark-towns-flamenco-jazz-trio-2/
LOCATION:The Wine Cave\, 2427 Honolulu Ave\, Montrose\, CA\, 91020\, United States
END:VEVENT
BEGIN:VEVENT
DTSTART;TZID=America/Los_Angeles:20171022T100000
DTEND;TZID=America/Los_Angeles:20171022T140000
DTSTAMP:20260425T185153
CREATED:20171010T040943Z
LAST-MODIFIED:20171010T011147Z
UID:247-1508666400-1508680800@marktowns.com
SUMMARY:Mark Towns Flamenco Jazz Trio
DESCRIPTION:Mark Towns (guitar)\, Cedric Leonardi (drums)\, Ross Schodek (bass)
URL:https://marktowns.com/event/mark-towns-flamenco-jazz-trio/
LOCATION:Montrose Farmers Market\, 2300 Honolulu Ave\, Montrose\, CA\, 91020\, United States
END:VEVENT
BEGIN:VEVENT
DTSTART;TZID=America/New_York:20171015T153000
DTEND;TZID=America/New_York:20171015T190000
DTSTAMP:20260425T185153
CREATED:20171009T072007Z
LAST-MODIFIED:20171010T011220Z
UID:244-1508081400-1508094000@marktowns.com
SUMMARY:Mark Towns Flamenco Jazz Guitar
DESCRIPTION:
URL:https://marktowns.com/event/mark-towns-flamenco-jazz-guitar/
LOCATION:Houston Polo Club\, 8552 Memorial Dr\, Houston\, TX\, 77024\, United States
END:VEVENT
END:VCALENDAR