BEGIN:VCALENDAR
VERSION:2.0
PRODID:-//Mark Towns - ECPv6.15.20//NONSGML v1.0//EN
CALSCALE:GREGORIAN
METHOD:PUBLISH
X-WR-CALNAME:Mark Towns
X-ORIGINAL-URL:https://marktowns.com
X-WR-CALDESC:Events for Mark Towns
REFRESH-INTERVAL;VALUE=DURATION:PT1H
X-Robots-Tag:noindex
X-PUBLISHED-TTL:PT1H
BEGIN:VTIMEZONE
TZID:America/Los_Angeles
BEGIN:DAYLIGHT
TZOFFSETFROM:-0800
TZOFFSETTO:-0700
TZNAME:PDT
DTSTART:20160313T100000
END:DAYLIGHT
BEGIN:STANDARD
TZOFFSETFROM:-0700
TZOFFSETTO:-0800
TZNAME:PST
DTSTART:20161106T090000
END:STANDARD
BEGIN:DAYLIGHT
TZOFFSETFROM:-0800
TZOFFSETTO:-0700
TZNAME:PDT
DTSTART:20170312T100000
END:DAYLIGHT
BEGIN:STANDARD
TZOFFSETFROM:-0700
TZOFFSETTO:-0800
TZNAME:PST
DTSTART:20171105T090000
END:STANDARD
BEGIN:DAYLIGHT
TZOFFSETFROM:-0800
TZOFFSETTO:-0700
TZNAME:PDT
DTSTART:20180311T100000
END:DAYLIGHT
BEGIN:STANDARD
TZOFFSETFROM:-0700
TZOFFSETTO:-0800
TZNAME:PST
DTSTART:20181104T090000
END:STANDARD
END:VTIMEZONE
BEGIN:VTIMEZONE
TZID:America/New_York
BEGIN:DAYLIGHT
TZOFFSETFROM:-0500
TZOFFSETTO:-0400
TZNAME:EDT
DTSTART:20160313T070000
END:DAYLIGHT
BEGIN:STANDARD
TZOFFSETFROM:-0400
TZOFFSETTO:-0500
TZNAME:EST
DTSTART:20161106T060000
END:STANDARD
BEGIN:DAYLIGHT
TZOFFSETFROM:-0500
TZOFFSETTO:-0400
TZNAME:EDT
DTSTART:20170312T070000
END:DAYLIGHT
BEGIN:STANDARD
TZOFFSETFROM:-0400
TZOFFSETTO:-0500
TZNAME:EST
DTSTART:20171105T060000
END:STANDARD
BEGIN:DAYLIGHT
TZOFFSETFROM:-0500
TZOFFSETTO:-0400
TZNAME:EDT
DTSTART:20180311T070000
END:DAYLIGHT
BEGIN:STANDARD
TZOFFSETFROM:-0400
TZOFFSETTO:-0500
TZNAME:EST
DTSTART:20181104T060000
END:STANDARD
END:VTIMEZONE
BEGIN:VEVENT
DTSTART;TZID=America/Los_Angeles:20171116T193000
DTEND;TZID=America/Los_Angeles:20171116T220000
DTSTAMP:20260425T212120
CREATED:20171010T081808Z
LAST-MODIFIED:20171010T010941Z
UID:258-1510860600-1510869600@marktowns.com
SUMMARY:Mark Towns Latin Jazz Trio
DESCRIPTION:Euro Zambrano (drums)\, Ross Schodek (bass)\, Mark Towns (guitar) \nUse Promo Code BGPLAYER for 50% tickets at https://deepmix.thundertix.com/events
URL:https://marktowns.com/event/mark-towns-latin-jazz-trio/
LOCATION:Jazz at the Blue Guitar\, 1055 Lohman Lane at Arroyo Seco Golf Course\, South Pasadena\, CA\, 91030\, United States
END:VEVENT
BEGIN:VEVENT
DTSTART;TZID=America/New_York:20171112T140000
DTEND;TZID=America/New_York:20171112T180000
DTSTAMP:20260425T212120
CREATED:20171010T081553Z
LAST-MODIFIED:20171010T011043Z
UID:255-1510495200-1510509600@marktowns.com
SUMMARY:Mark Towns guest DJ @ Risotto Festival
DESCRIPTION:
URL:https://marktowns.com/event/mark-towns-guest-dj-risotto-festival/
LOCATION:Houston Design Center\, 7026 Old Katy Rd\, Houston\, TX\, 77024\, United States
END:VEVENT
BEGIN:VEVENT
DTSTART;TZID=America/Los_Angeles:20171028T203000
DTEND;TZID=America/Los_Angeles:20171028T230000
DTSTAMP:20260425T212120
CREATED:20171010T041137Z
LAST-MODIFIED:20171010T011108Z
UID:250-1509222600-1509231600@marktowns.com
SUMMARY:Mark Towns Flamenco Jazz Trio
DESCRIPTION:
URL:https://marktowns.com/event/mark-towns-flamenco-jazz-trio-2/
LOCATION:The Wine Cave\, 2427 Honolulu Ave\, Montrose\, CA\, 91020\, United States
END:VEVENT
BEGIN:VEVENT
DTSTART;TZID=America/Los_Angeles:20171022T100000
DTEND;TZID=America/Los_Angeles:20171022T140000
DTSTAMP:20260425T212120
CREATED:20171010T040943Z
LAST-MODIFIED:20171010T011147Z
UID:247-1508666400-1508680800@marktowns.com
SUMMARY:Mark Towns Flamenco Jazz Trio
DESCRIPTION:Mark Towns (guitar)\, Cedric Leonardi (drums)\, Ross Schodek (bass)
URL:https://marktowns.com/event/mark-towns-flamenco-jazz-trio/
LOCATION:Montrose Farmers Market\, 2300 Honolulu Ave\, Montrose\, CA\, 91020\, United States
END:VEVENT
BEGIN:VEVENT
DTSTART;TZID=America/New_York:20171015T153000
DTEND;TZID=America/New_York:20171015T190000
DTSTAMP:20260425T212120
CREATED:20171009T072007Z
LAST-MODIFIED:20171010T011220Z
UID:244-1508081400-1508094000@marktowns.com
SUMMARY:Mark Towns Flamenco Jazz Guitar
DESCRIPTION:
URL:https://marktowns.com/event/mark-towns-flamenco-jazz-guitar/
LOCATION:Houston Polo Club\, 8552 Memorial Dr\, Houston\, TX\, 77024\, United States
END:VEVENT
END:VCALENDAR