BEGIN:VCALENDAR
VERSION:2.0
PRODID:-//Mark Towns - ECPv6.15.20//NONSGML v1.0//EN
CALSCALE:GREGORIAN
METHOD:PUBLISH
X-ORIGINAL-URL:https://marktowns.com
X-WR-CALDESC:Events for Mark Towns
REFRESH-INTERVAL;VALUE=DURATION:PT1H
X-Robots-Tag:noindex
X-PUBLISHED-TTL:PT1H
BEGIN:VTIMEZONE
TZID:America/Los_Angeles
BEGIN:DAYLIGHT
TZOFFSETFROM:-0800
TZOFFSETTO:-0700
TZNAME:PDT
DTSTART:20250309T100000
END:DAYLIGHT
BEGIN:STANDARD
TZOFFSETFROM:-0700
TZOFFSETTO:-0800
TZNAME:PST
DTSTART:20251102T090000
END:STANDARD
BEGIN:DAYLIGHT
TZOFFSETFROM:-0800
TZOFFSETTO:-0700
TZNAME:PDT
DTSTART:20260308T100000
END:DAYLIGHT
BEGIN:STANDARD
TZOFFSETFROM:-0700
TZOFFSETTO:-0800
TZNAME:PST
DTSTART:20261101T090000
END:STANDARD
BEGIN:DAYLIGHT
TZOFFSETFROM:-0800
TZOFFSETTO:-0700
TZNAME:PDT
DTSTART:20270314T100000
END:DAYLIGHT
BEGIN:STANDARD
TZOFFSETFROM:-0700
TZOFFSETTO:-0800
TZNAME:PST
DTSTART:20271107T090000
END:STANDARD
END:VTIMEZONE
BEGIN:VEVENT
DTSTART;TZID=America/Los_Angeles:20260424T183000
DTEND;TZID=America/Los_Angeles:20260424T213000
DTSTAMP:20260423T001639
CREATED:20260409T133352Z
LAST-MODIFIED:20260409T133427Z
UID:2479-1777055400-1777066200@marktowns.com
SUMMARY:Mark Towns w Dave Tull Trio @ Eddie V's El Segundo CA Friday 4/24/26
DESCRIPTION:Mark Towns (bass) with Dave Tull Trio @ Eddie V’s El Segundo\, CA Friday 4/24/26 (6:30pm-9:30pm)
URL:https://marktowns.com/event/mark-towns-w-dave-tull-trio-eddie-vs-el-segundo-ca/
LOCATION:Eddie V’s El Segundo\, 2101 Rosecrans Ave.\, El Segundo\, CA\, 90245\, United States
END:VEVENT
BEGIN:VEVENT
DTSTART;TZID=America/Los_Angeles:20260425T080000
DTEND;TZID=America/Los_Angeles:20260425T170000
DTSTAMP:20260423T001639
CREATED:20260409T133556Z
LAST-MODIFIED:20260417T152037Z
UID:2482-1777104000-1777136400@marktowns.com
SUMMARY:Mark Towns w Mark Lebrun Band @ Huntington Beach\, CA (Private Event) Saturday 4/25/26
DESCRIPTION:Mark Towns (guitar) with Mark Lebrun Band @ Private Event\, Huntington Beach\, California Saturday 4/25/26
URL:https://marktowns.com/event/mark-towns-w-mark-lebrun-band-huntington-beach-ca-private-event-saturday-4-25-26/
LOCATION:TX
END:VEVENT
BEGIN:VEVENT
DTSTART;TZID=America/Los_Angeles:20260510T110000
DTEND;TZID=America/Los_Angeles:20260510T150000
DTSTAMP:20260423T001639
CREATED:20260417T152236Z
LAST-MODIFIED:20260417T152236Z
UID:2493-1778410800-1778425200@marktowns.com
SUMMARY:Mark Towns Flamenco Jazz Guitar @ Latuli Mother's Day Brunch 5/10/26
DESCRIPTION:Mark Towns – Solo Flamenco Jazz Guitar (Mother’s Day Brunch)Sunday 5/10/26 | 11 AM – 3 PMLatuli8900 Gaylord Dr.\, Houston\, TX \nLive solo guitar blending Flamenco and Latin Jazz.
URL:https://marktowns.com/event/mark-towns-flamenco-jazz-guitar-latuli-mothers-day-brunch-5-10-26/
LOCATION:Latuli\, 8900 Gaylord Dr.\, Houston\, TX\, 77024\, United States
END:VEVENT
BEGIN:VEVENT
DTSTART;TZID=America/Los_Angeles:20260517T110000
DTEND;TZID=America/Los_Angeles:20260517T150000
DTSTAMP:20260423T001639
CREATED:20260417T152401Z
LAST-MODIFIED:20260417T152401Z
UID:2495-1779015600-1779030000@marktowns.com
SUMMARY:Mark Towns Flamenco Jazz Guitar @ Latuli Sunday Brunch 5/17/26
DESCRIPTION:Mark Towns – Solo Flamenco Jazz Guitar (Brunch)Sunday 5/17/26 | 11 AM – 3 PMLatuli8900 Gaylord Dr.\, Houston\, TX \nLive solo guitar blending Flamenco and Latin Jazz.
URL:https://marktowns.com/event/mark-towns-flamenco-jazz-guitar-latuli-sunday-brunch-5-17-26/
LOCATION:Latuli\, 8900 Gaylord Dr.\, Houston\, TX\, 77024\, United States
END:VEVENT
BEGIN:VEVENT
DTSTART;TZID=America/Los_Angeles:20260620T080000
DTEND;TZID=America/Los_Angeles:20260620T170000
DTSTAMP:20260423T001639
CREATED:20260417T150945Z
LAST-MODIFIED:20260417T150945Z
UID:2490-1781942400-1781974800@marktowns.com
SUMMARY:Bongo Surfo feat. Mark Towns @ Sierra Madre\, CA (Private Event) Sat. June 20
DESCRIPTION:Bongo Surfo featuring guitarist Mark Towns – Private Event
URL:https://marktowns.com/event/bongo-surfo-feat-mark-towns-sierra-madre-ca-private-event-sat-june-20/
LOCATION:TX
END:VEVENT
BEGIN:VEVENT
DTSTART;TZID=America/Los_Angeles:20260810T220000
DTEND;TZID=America/Los_Angeles:20260810T233000
DTSTAMP:20260423T001639
CREATED:20260417T150752Z
LAST-MODIFIED:20260417T150752Z
UID:2488-1786399200-1786404600@marktowns.com
SUMMARY:Mark Towns Latin Jazz Band @ LA Jazz Festival Monday August 10\, 2026
DESCRIPTION:Mark Towns Latin Jazz Band will perform as part of the LA Jazz Festival’s Jazz After Dark series\, a late-night program extending the festival into Los Angeles’ nightlife scene. Running from 10 PM to 2 AM\, the series features a curated network of venues across the city\, showcasing performances that range from intimate club sets to high-energy late-night gatherings.
URL:https://marktowns.com/event/mark-towns-latin-jazz-band-la-jazz-festival-monday-august-10-2026/
LOCATION:TX
END:VEVENT
BEGIN:VEVENT
DTSTART;TZID=America/Los_Angeles:20260816T100000
DTEND;TZID=America/Los_Angeles:20260816T130000
DTSTAMP:20260423T001639
CREATED:20250718T212502Z
LAST-MODIFIED:20251208T192731Z
UID:2350-1786874400-1786885200@marktowns.com
SUMMARY:Mark Towns Flamenco Jazz Guitar @ Montrose CA Harvest Market Sun. 8/16/26 10AM-1PM
DESCRIPTION:Guitarist Mark Towns returns for an encore appearance at the Montrose Harvest Market\, performing his signature blend of Flamenco and Latin Jazz. Come catch the set and experience the sound that’s made him an audience favorite.
URL:https://marktowns.com/event/mark-towns-flamenco-jazz-guitar-montrose-ca-harvest-market-sun-8-3-25-10am-1pm/
LOCATION:Montrose Harvest Market\, 2300 block of Honolulu Ave.\, Montrose\, CA\, 91020\, United States
END:VEVENT
BEGIN:VEVENT
DTSTART;VALUE=DATE:20260920
DTEND;VALUE=DATE:20260921
DTSTAMP:20260423T001639
CREATED:20251208T193728Z
LAST-MODIFIED:20251208T193728Z
UID:2427-1789862400-1789948799@marktowns.com
SUMMARY:Mark Towns Flamenco Jazz Guitar @ Montrose Harvest Market Sunday 9/20/26 10am-1pm
DESCRIPTION:Mark Towns Flamenco Jazz / Latin Jazz guitar! Free outdoor performance at Montrose Harvest Market Sunday 9/20/26 (10am-1pm)
URL:https://marktowns.com/event/mark-towns-flamenco-jazz-guitar-montrose-harvest-market-sunday-9-20-26-10am-1pm/
LOCATION:Montrose Harvest Market\, 2300 block of Honolulu Ave.\, Montrose\, CA\, 91020\, United States
END:VEVENT
BEGIN:VEVENT
DTSTART;VALUE=DATE:20261011
DTEND;VALUE=DATE:20261012
DTSTAMP:20260423T001639
CREATED:20260402T230344Z
LAST-MODIFIED:20260402T230344Z
UID:2466-1791676800-1791763199@marktowns.com
SUMMARY:Mark Towns with Cro Cro & Tumbaka @ MATCH Houston Sunday 10/11/26
DESCRIPTION:Mark Towns (guitar) – featured guest with Cro Cro y Tumbaka (Latin Jazz & Salsa) at Midtown Arts & Theater Center Houston aka MATCH on Sunday\, October 11\, 2026 
URL:https://marktowns.com/event/mark-towns-with-cro-cro-tumbaka-match-houston-sunday-10-11-26/
LOCATION:MATCH\, 3400 Main St.\, Houston\, TX\, 77002\, United States
END:VEVENT
END:VCALENDAR