BEGIN:VCALENDAR
VERSION:2.0
PRODID:-//Mark Towns - ECPv6.15.20//NONSGML v1.0//EN
CALSCALE:GREGORIAN
METHOD:PUBLISH
X-WR-CALNAME:Mark Towns
X-ORIGINAL-URL:https://marktowns.com
X-WR-CALDESC:Events for Mark Towns
REFRESH-INTERVAL;VALUE=DURATION:PT1H
X-Robots-Tag:noindex
X-PUBLISHED-TTL:PT1H
BEGIN:VTIMEZONE
TZID:America/Los_Angeles
BEGIN:DAYLIGHT
TZOFFSETFROM:-0800
TZOFFSETTO:-0700
TZNAME:PDT
DTSTART:20220313T100000
END:DAYLIGHT
BEGIN:STANDARD
TZOFFSETFROM:-0700
TZOFFSETTO:-0800
TZNAME:PST
DTSTART:20221106T090000
END:STANDARD
BEGIN:DAYLIGHT
TZOFFSETFROM:-0800
TZOFFSETTO:-0700
TZNAME:PDT
DTSTART:20230312T100000
END:DAYLIGHT
BEGIN:STANDARD
TZOFFSETFROM:-0700
TZOFFSETTO:-0800
TZNAME:PST
DTSTART:20231105T090000
END:STANDARD
BEGIN:DAYLIGHT
TZOFFSETFROM:-0800
TZOFFSETTO:-0700
TZNAME:PDT
DTSTART:20240310T100000
END:DAYLIGHT
BEGIN:STANDARD
TZOFFSETFROM:-0700
TZOFFSETTO:-0800
TZNAME:PST
DTSTART:20241103T090000
END:STANDARD
BEGIN:DAYLIGHT
TZOFFSETFROM:-0800
TZOFFSETTO:-0700
TZNAME:PDT
DTSTART:20250309T100000
END:DAYLIGHT
BEGIN:STANDARD
TZOFFSETFROM:-0700
TZOFFSETTO:-0800
TZNAME:PST
DTSTART:20251102T090000
END:STANDARD
BEGIN:DAYLIGHT
TZOFFSETFROM:-0800
TZOFFSETTO:-0700
TZNAME:PDT
DTSTART:20260308T100000
END:DAYLIGHT
BEGIN:STANDARD
TZOFFSETFROM:-0700
TZOFFSETTO:-0800
TZNAME:PST
DTSTART:20261101T090000
END:STANDARD
END:VTIMEZONE
BEGIN:VEVENT
DTSTART;TZID=America/Los_Angeles:20250214T180000
DTEND;TZID=America/Los_Angeles:20250214T210000
DTSTAMP:20260425T212008
CREATED:20250128T180009Z
LAST-MODIFIED:20250128T180009Z
UID:2141-1739556000-1739566800@marktowns.com
SUMMARY:Mark Towns Flamenco Jazz Guitar - Valentines Day @ Hilton Universal L.A. (6-9pm)
DESCRIPTION:Mark Towns – Flamenco Jazz Guitar 6-9pm on Valentines Day\, Friday 2/14/25 at Five on the Hill restaurant at the Hilton Los Angeles Universal City \nFlamenco Jazz Guitarist Mark Towns
URL:https://marktowns.com/event/mark-towns-flamenco-jazz-guitar-valentines-day-hilton-universal-l-a-6-9pm/
LOCATION:Five on the Hill – Hilton L.A. Universal City\, 555 Universal Hollywood Dr.\, Universal City\, CA\, 91608\, United States
END:VEVENT
BEGIN:VEVENT
DTSTART;TZID=America/Los_Angeles:20250209T103000
DTEND;TZID=America/Los_Angeles:20250209T103000
DTSTAMP:20260425T212008
CREATED:20250120T234205Z
LAST-MODIFIED:20250120T234205Z
UID:2130-1739097000-1739097000@marktowns.com
SUMMARY:Mark Towns Flamenco Jazz Guitar @ Houston Oasis Sunday 2/9 (10:30am-Noon)
DESCRIPTION:Join Mark Towns for a Flamenco Jazz guitar performance at Houston Oasis on Sunday\, February 9\, from 10:30 AM to Noon. Mark will be performing at various times throughout the Sunday Oasis event. Houston Oasis is a welcoming secular community that invites everyone to join their weekly Sunday gathering\, which includes engaging discussions\, a thought-provoking talk\, coffee\, snacks\, and live music.
URL:https://marktowns.com/event/mark-towns-flamenco-jazz-guitar-houston-oasis-sunday-2-9-1030am-noon/
LOCATION:Houston Oasis\, 401 Branard St.\, Houston\, TX\, 77006\, United States
END:VEVENT
BEGIN:VEVENT
DTSTART;TZID=America/Los_Angeles:20250208T090000
DTEND;TZID=America/Los_Angeles:20250208T110000
DTSTAMP:20260425T212008
CREATED:20250205T065856Z
LAST-MODIFIED:20250205T065856Z
UID:2148-1739005200-1739012400@marktowns.com
SUMMARY:Mark Towns Flamenco Jazz Guitar @ Urban Harvest Farmers Market Houston Sat. 2/8 (9AM-11AM)
DESCRIPTION:Mark Towns solo Flamenco Jazz Guitar at Urban Harvest Farmers Market in Houston\, Texas on Saturday\, February 8\, 2025 from 9:00AM until 11:00AM. \nUrban Harvest Farmers Market is located at 2752 Buffalo Speedway\, Houston\, TX 77098\, in the parking lot of St. Johns School at the corner of Westheimer and Buffalo Speedway.
URL:https://marktowns.com/event/mark-towns-flamenco-jazz-live-music-farmers-market/
LOCATION:Urban Harvest Farmers Market – Houston\, 2752 Buffalo Speedway\, Houston\, TX\, 77098\, United States
END:VEVENT
BEGIN:VEVENT
DTSTART;TZID=America/Los_Angeles:20250126T100000
DTEND;TZID=America/Los_Angeles:20250126T130000
DTSTAMP:20260425T212008
CREATED:20250120T212726Z
LAST-MODIFIED:20250120T234440Z
UID:2114-1737885600-1737896400@marktowns.com
SUMMARY:Mark Towns Flamenco Jazz Guitar @ Montrose CA Harvest Market Sunday 1/26
DESCRIPTION:Mark Towns performs Flamenco Jazz guitar at Montrose Harvest Market on Sunday\, January 26\, 2025 (10:00 a.m. – 1:00 p.m.) Free! 2300 block of Honolulu Ave. (2 blocks west of Ocean View Ave.)\, Montrose\, California. 
URL:https://marktowns.com/event/mark-towns-flamenco-jazz-guitar-montrose-harvest-market-sunday-1-26/
LOCATION:Montrose Harvest Market\, 2300 block of Honolulu Ave.\, Montrose\, CA\, 91020\, United States
END:VEVENT
BEGIN:VEVENT
DTSTART;TZID=America/Los_Angeles:20241215T110000
DTEND;TZID=America/Los_Angeles:20241215T150000
DTSTAMP:20260425T212008
CREATED:20241213T215732Z
LAST-MODIFIED:20241213T215732Z
UID:2101-1734260400-1734274800@marktowns.com
SUMMARY:Mark Towns Flamenco Jazz Guitar @ Hilton L.A. Universal City Sunday 12/15/24 11am-3pm
DESCRIPTION:Flamenco Jazz Guitarist Mark Towns will perform at the “Five on the Hill” restaurant at the Hilton Los Angeles Universal City for brunch (11am-3pm) on Sunday\, December 15\, 2024.
URL:https://marktowns.com/event/mark-towns-flamenco-jazz-guitar-hilton-l-a-universal-city-sunday-12-15-24-11am-3pm/
LOCATION:Five on the Hill – Hilton L.A. Universal City\, 555 Universal Hollywood Dr.\, Universal City\, CA\, 91608\, United States
END:VEVENT
BEGIN:VEVENT
DTSTART;TZID=America/Los_Angeles:20241123T170000
DTEND;TZID=America/Los_Angeles:20241123T210000
DTSTAMP:20260425T212008
CREATED:20241114T202750Z
LAST-MODIFIED:20241114T202750Z
UID:2098-1732381200-1732395600@marktowns.com
SUMMARY:Mark Towns Flamenco Jazz Guitar @ Hilton L.A. Universal City Saturday 11/23/24
DESCRIPTION:Mark Towns – Flamenco Jazz Guitar Performance\nSaturday\, November 23\, 2024 | 5:00 PM – 9:00 PM\nFive on the Hill\, Hilton L.A. Universal City \nExperience the soulful fusion of flamenco and jazz with Mark Towns\, one of the most captivating guitarists on the scene today. Enjoy a dynamic evening of live music at the Hilton L.A. Universal City’s Five on the Hill restaurant\, where Mark’s virtuosity and emotional depth will set the perfect tone for your Saturday evening. His performance promises to transport you with every note in an intimate\, sophisticated setting. \nNo cover charge. Reservations are required. Don’t miss out—reserve your table for a memorable night of music and ambiance!
URL:https://marktowns.com/event/mark-towns-flamenco-jazz-guitar-hilton-l-a-universal-city-saturday-11-23-24/
LOCATION:Five on the Hill – Hilton L.A. Universal City\, 555 Universal Hollywood Dr.\, Universal City\, CA\, 91608\, United States
END:VEVENT
BEGIN:VEVENT
DTSTART;TZID=America/Los_Angeles:20241117T110000
DTEND;TZID=America/Los_Angeles:20241117T150000
DTSTAMP:20260425T212008
CREATED:20241114T202410Z
LAST-MODIFIED:20241114T202410Z
UID:2095-1731841200-1731855600@marktowns.com
SUMMARY:Mark Towns Flamenco Jazz Guitar @ Hilton L.A. Universal City Sunday 11/17/24
DESCRIPTION:Mark Towns – Flamenco Jazz Guitar Performance\nSunday\, November 17\, 2024 | 11:00 AM – 3:00 PM\nFive on the Hill\, Hilton L.A. Universal City \nJoin renowned flamenco jazz guitarist Mark Towns for an afternoon of captivating music at the Hilton L.A. Universal City’s stunning Five on the Hill restaurant. Mark’s unique blend of flamenco passion and jazz improvisation promises to create an unforgettable experience in a relaxed\, elegant atmosphere. Whether you’re a long-time fan or new to his sound\, this performance offers the perfect backdrop for your Sunday brunch or midday escape. \nNo cover charge. Reservations are required. Be sure to secure your spot for this exclusive performance!
URL:https://marktowns.com/event/mark-towns-flamenco-jazz-guitar-hilton-l-a-universal-city-sunday-11-17-24/
LOCATION:Hilton Los Angeles/Universal City\, 555 Universal Hollywood Dr.\, Universal City\, CA\, 91608\, United States
END:VEVENT
BEGIN:VEVENT
DTSTART;TZID=America/Los_Angeles:20241024T200000
DTEND;TZID=America/Los_Angeles:20241024T223000
DTSTAMP:20260425T212008
CREATED:20240523T192508Z
LAST-MODIFIED:20240629T210553Z
UID:2065-1729800000-1729809000@marktowns.com
SUMMARY:Mark Towns with Cybill Shepherd @ Vibrato Thursday 10/24/24
DESCRIPTION:Cybill Shepherd will perform at Vibrato Grill & Jazz Thu. 10/24/24 backed by an all-star band featuring Freddy Ramos (guitar)\, Mark Towns (bass)\, Dave Tull (drums)\, Robert Kyle (sax)\, & musical director Sunnie Paxson (piano). (This is the rescheduled date which was originally 7/25/24.)
URL:https://marktowns.com/event/mark-towns-with-cybill-shepherd-vibrato-thursday-7-25-24/
LOCATION:Vibrato Grill & Jazz\, 2930 Beverly Glen Circle\, Los Angeles\, CA\, 90077\, United States
END:VEVENT
BEGIN:VEVENT
DTSTART;TZID=America/Los_Angeles:20240929T100000
DTEND;TZID=America/Los_Angeles:20240929T130000
DTSTAMP:20260425T212008
CREATED:20240925T050741Z
LAST-MODIFIED:20240925T050741Z
UID:2086-1727604000-1727614800@marktowns.com
SUMMARY:Mark Towns Flamenco Jazz @ Montrose Harvest Market Sunday 9/29/24 10am-1pm
DESCRIPTION:Mark Towns performs solo Flamenco Jazz guitar at Montrose Harvest Market\, 2300 block of Honolulu Ave.\, Montrose\, CA on Sunday\, September 29\, 2024 from 10:00am until 1:00pm. Free!
URL:https://marktowns.com/event/mark-towns-flamenco-jazz-montrose-harvest-market-sunday-9-29-24-10am-1pm/
LOCATION:Montrose Harvest Market\, 2300 block of Honolulu Ave.\, Montrose\, CA\, 91020\, United States
END:VEVENT
BEGIN:VEVENT
DTSTART;TZID=America/Los_Angeles:20240928T170000
DTEND;TZID=America/Los_Angeles:20240928T210000
DTSTAMP:20260425T212008
CREATED:20240925T052101Z
LAST-MODIFIED:20240925T052607Z
UID:2091-1727542800-1727557200@marktowns.com
SUMMARY:Mark Towns Flamenco Jazz Guitar @ Cafe Sierra\, Hilton Universal City Saturday 9/28/24 5-9pm
DESCRIPTION:Mark Towns Flamenco Jazz Guitar at Cafe Sierra inside the Hilton Los Angeles Universal City on Saturday\, 9/28/24 (5-9pm)
URL:https://marktowns.com/event/mark-towns-flamenco-jazz-guitar-cafe-sierra-hilton-universal-city-saturday-9-28-24-5-9pm/
LOCATION:Cafe Sierra @ Hilton L.A. Universal City\, 555 Universal Hollywood Dr.\, CA\, 91608\, United States
END:VEVENT
BEGIN:VEVENT
DTSTART;TZID=America/Los_Angeles:20240927T180000
DTEND;TZID=America/Los_Angeles:20240927T210000
DTSTAMP:20260425T212008
CREATED:20240925T051439Z
LAST-MODIFIED:20240925T051439Z
UID:2088-1727460000-1727470800@marktowns.com
SUMMARY:Mark Towns Flamenco Jazz Guitar @ Five on the Hill\, Hilton Universal City Friday 9/27/24 6-9pm
DESCRIPTION:Mark Towns Flamenco Jazz Guitar at Five on the Hill at the Hilton Los Angeles Universal City on Friday\, September 27\, 2024 (6-9pm)
URL:https://marktowns.com/event/mark-towns-flamenco-jazz-guitar-five-on-the-hill-hilton-universal-city-friday-9-27-24-6-9pm/
LOCATION:Five on the Hill – Hilton L.A. Universal City\, 555 Universal Hollywood Dr.\, Universal City\, CA\, 91608\, United States
END:VEVENT
BEGIN:VEVENT
DTSTART;TZID=America/Los_Angeles:20240804T100000
DTEND;TZID=America/Los_Angeles:20240804T130000
DTSTAMP:20260425T212008
CREATED:20231202T203505Z
LAST-MODIFIED:20231202T203505Z
UID:1888-1722765600-1722776400@marktowns.com
SUMMARY:Mark Towns Flamenco Jazz Guitar @ Montrose Harvest Market Sunday 8/4/24 10am-1pm
DESCRIPTION:Mark Towns will perform solo Flamenco Jazz\, Latin Jazz\, and Classical Guitar @ The Montrose Harvest Market (2300 block of Honolulu Ave. in Montrose\, CA) on Sunday 8/4/24 (10am – 1:00pm).
URL:https://marktowns.com/event/mark-towns-flamenco-jazz-guitar-montrose-harvest-market-sunday-8-4-24-10am-1pm/
LOCATION:Montrose Harvest Market\, 2300 block of Honolulu Ave.\, Montrose\, CA\, 91020\, United States
END:VEVENT
BEGIN:VEVENT
DTSTART;TZID=America/Los_Angeles:20240618T180000
DTEND;TZID=America/Los_Angeles:20240618T220000
DTSTAMP:20260425T212008
CREATED:20240523T194130Z
LAST-MODIFIED:20240523T194130Z
UID:2069-1718733600-1718748000@marktowns.com
SUMMARY:Mark Towns Brazilliance @ The End (Torrance\, CA) Tue. 6/18/24 - Brazilian Flood Benefit
DESCRIPTION:Mark Towns Brazilliance (Brazilian Jazz) will perform Tuesday\, June 18\, 2024 at The End Bar/Lounge in Torrance\, CA along with other LA musicians to raise funds to benefit musicians affected by the floods in Rio Grande do Sul\, Brazil.
URL:https://marktowns.com/event/mark-towns-brazilliance-the-end-torrance-ca-tue-6-18-24-brazilian-flood-benefit/
LOCATION:The End\, 4525 Calle Mayor\, Torrance\, CA\, 90505\, United States
END:VEVENT
BEGIN:VEVENT
DTSTART;TZID=America/Los_Angeles:20240616T110000
DTEND;TZID=America/Los_Angeles:20240616T140000
DTSTAMP:20260425T212008
CREATED:20240613T185707Z
LAST-MODIFIED:20240613T185707Z
UID:2078-1718535600-1718546400@marktowns.com
SUMMARY:Mark Towns Flamenco Jazz Guitar @ Hilton Universal L.A. Sunday 6/16 (11am-2pm) - Free!
DESCRIPTION:Join us this Sunday\, 6/16/24 (11am-2pm) at the Hilton Los Angeles/Universal City for a special performance by Flamenco Jazz guitarist Mark Towns. Experience the fusion of Flamenco and Jazz in a captivating musical journey. Admission is free. \nSunday’s performance at the Hilton is inside at the Club Room. \nFlamenco Jazz Guitarist Mark Towns
URL:https://marktowns.com/event/mark-towns-flamenco-jazz-guitar-hilton-universal-l-a-sunday-6-16-11am-2pm-free/
LOCATION:Hilton Los Angeles/Universal City\, 555 Universal Hollywood Dr.\, Universal City\, CA\, 91608\, United States
END:VEVENT
BEGIN:VEVENT
DTSTART;TZID=America/Los_Angeles:20240615T180000
DTEND;TZID=America/Los_Angeles:20240615T210000
DTSTAMP:20260425T212008
CREATED:20240613T185016Z
LAST-MODIFIED:20240613T185016Z
UID:2075-1718474400-1718485200@marktowns.com
SUMMARY:Mark Towns Flamenco Jazz Guitar @ Hilton Universal L.A. Saturday 6/15 (6-9pm). Free!
DESCRIPTION:Join us this Saturday\, 6/15/24 (6pm-9pm) at the Hilton Los Angeles/Universal City for a special performance by Flamenco Jazz guitarist Mark Towns. Experience the fusion of Flamenco and Jazz in a captivating musical journey. Admission is free. \nSaturday’s performance is on the patio at the Five on the Hill restaurant onsite at the Hilton. \nFlamenco Jazz Guitarist Mark Towns
URL:https://marktowns.com/event/mark-towns-flamenco-jazz-guitar-hilton-universal-l-a-saturday-6-15-6-9pm-free/
LOCATION:Hilton Los Angeles/Universal City\, 555 Universal Hollywood Dr.\, Universal City\, CA\, 91608\, United States
END:VEVENT
BEGIN:VEVENT
DTSTART;TZID=America/Los_Angeles:20240614T183000
DTEND;TZID=America/Los_Angeles:20240614T223000
DTSTAMP:20260425T212008
CREATED:20240614T152656Z
LAST-MODIFIED:20240614T152656Z
UID:2081-1718389800-1718404200@marktowns.com
SUMMARY:Mark Towns w Joe Rotondi Trio @ Eddie V's El Segundo Friday 6/14
DESCRIPTION:Mark Towns on bass with Joe Rotondi (piano) and Lyndon Rochelle (drums) at Eddie V’s El Segundo Friday\, 6/14/24 (6:30-10:30pm). In the lounge\, no cover charge\, reservations required. Call 310-414-0074
URL:https://marktowns.com/event/mark-towns-w-joe-rotondi-trio-eddie-vs-el-segundo-friday-6-14/
LOCATION:Eddie V’s El Segundo\, 2101 Rosecrans Ave.\, El Segundo\, CA\, 90245\, United States
END:VEVENT
BEGIN:VEVENT
DTSTART;TZID=America/Los_Angeles:20240525T133000
DTEND;TZID=America/Los_Angeles:20240525T163000
DTSTAMP:20260425T212008
CREATED:20240523T185413Z
LAST-MODIFIED:20240523T185413Z
UID:2061-1716643800-1716654600@marktowns.com
SUMMARY:Mark Towns Flamenco Jazz Guitar @ Hilton L.A. Universal City Sat. 5/25/24 1:30-4:30pm
DESCRIPTION:Join us this Saturday\, 5/25\, from 1:30pm to 4:30pm at the Hilton Los Angeles/Universal City for a special performance by Flamenco Jazz guitarist Mark Towns. Experience the fusion of Flamenco and Jazz in a captivating musical journey. Admission is free. \nFlamenco Jazz Guitarist Mark Towns
URL:https://marktowns.com/event/mark-towns-flamenco-jazz-guitar-hilton-l-a-universal-city-sat-5-25-24-130-430pm/
LOCATION:Hilton Los Angeles/Universal City\, 555 Universal Hollywood Dr.\, Universal City\, CA\, 91608\, United States
END:VEVENT
BEGIN:VEVENT
DTSTART;TZID=America/Los_Angeles:20240519T100000
DTEND;TZID=America/Los_Angeles:20240519T130000
DTSTAMP:20260425T212008
CREATED:20231202T203200Z
LAST-MODIFIED:20231202T203200Z
UID:1886-1716112800-1716123600@marktowns.com
SUMMARY:Mark Towns Flamenco Jazz Guitar @ Montrose Harvest Market Sunday 5/19/24 10am-1pm
DESCRIPTION:Mark Towns will perform solo Flamenco Jazz\, Latin Jazz\, and Classical Guitar @ The Montrose Harvest Market (2300 block of Honolulu Ave. in Montrose\, CA) on Sunday 5/19/24 (10am – 1:00pm).
URL:https://marktowns.com/event/mark-towns-flamenco-jazz-guitar-montrose-harvest-market-sunday-5-19-24-10am-1pm/
LOCATION:Montrose Harvest Market\, 2300 block of Honolulu Ave.\, Montrose\, CA\, 91020\, United States
END:VEVENT
BEGIN:VEVENT
DTSTART;TZID=America/Los_Angeles:20240428T130000
DTEND;TZID=America/Los_Angeles:20240428T133000
DTSTAMP:20260425T212008
CREATED:20240306T010446Z
LAST-MODIFIED:20240306T010446Z
UID:2028-1714309200-1714311000@marktowns.com
SUMMARY:Mark Towns Latin Jazz Quintet @ AFM Local 47 Jazz Festival Sunday 4/28/24 1PM
DESCRIPTION:Immerse yourself in an electrifying performance by the Mark Towns Latin Jazz Quintet at the AFM Local 47 Jazz Festival! Join us on Sunday\, April 28th\, 2024\, at 1:00 PM for an afternoon of exciting Afro-Caribbean percussion grooves fused with Flamenco-inspired guitar. \nMark Towns’ unique fusion of styles sets him apart\, guaranteeing a musical experience that is sure to dazzle and delight! Don’t miss this opportunity to experience the magic of live Latin Jazz at its finest! \nMark Towns Latin Jazz Band @ LACMA
URL:https://marktowns.com/event/mark-towns-latin-jazz-quintet-afm-local-47-jazz-festival-sunday-4-28-24/
LOCATION:AFM Local 47\, 3220 Winona Ave.\, Burbank\, CA\, 91504\, United States
END:VEVENT
BEGIN:VEVENT
DTSTART;TZID=America/Los_Angeles:20240427T153000
DTEND;TZID=America/Los_Angeles:20240427T163000
DTSTAMP:20260425T212008
CREATED:20240422T220450Z
LAST-MODIFIED:20240422T220711Z
UID:2034-1714231800-1714235400@marktowns.com
SUMMARY:Bongo Surfo feat. Mark Towns Sat. 4/27 Eclectic Festival S. Pasadena\, CA 3:30pm-4:30pm
DESCRIPTION:Bongo Surfo (Tropical Surf Rock Band) featuring guitarist Mark Towns will perform Saturday 4/27/24 (3:30pm-4:30pm) at the Eclectic Festival in South Pasadena\, CA on the “Schoolhouse Stage.” The band features Bernie Dressel (drums)\, Gary Wicks (bass)\, Jon Greathouse (electric piano/organ)\, and Mark Towns (guitar\, bongos\, keyboards). Free event! \n  \n 
URL:https://marktowns.com/event/bongo-surfo-feat-mark-towns-sat-4-27-eclectic-festival-s-pasadena-ca-330pm-430pm/
LOCATION:Eclectic Festival\, 911 Fairview Ave.\, South Pasadena\, CA\, 91030\, United States
END:VEVENT
BEGIN:VEVENT
DTSTART;TZID=America/Los_Angeles:20240322T203000
DTEND;TZID=America/Los_Angeles:20240322T230000
DTSTAMP:20260425T212008
CREATED:20230310T204140Z
LAST-MODIFIED:20240306T000638Z
UID:1741-1711139400-1711148400@marktowns.com
SUMMARY:Mark Towns with Oscar Hernandez Latin Jazz Band @ Catalina Jazz Club Hollywood Fri. 3/22/24
DESCRIPTION:Prepare for an electrifying night of Latin Jazz as Grammy-winning keyboardist\, arranger\, and composer Oscar Hernandez presents ‘A Birthday Celebration’ at the iconic Catalina Jazz Club in Hollywood on Friday\, March 22\, 2024. Joining the stellar lineup as a featured guest artist is the renowned guitarist Mark Towns\, who will perform with Hernandez and his Latin Jazz band Alma Libre\, including luminaries Justo Almario on saxophone\, Oskar Cartaya on bass\, Euro Zambrano on drums\, and Joey DeLeon on congas. This promises to be an unforgettable evening of Latin Jazz magic you won’t want to miss. \n 
URL:https://marktowns.com/event/mark-towns-with-oscar-hernandez-latin-jazz-band-catalina-jazz-club-l-a-fri-3-22-24/
LOCATION:Catalina Jazz Club\, 6725 Sunset Blvd.\, Hollywood\, CA\, 90028\, United States
END:VEVENT
BEGIN:VEVENT
DTSTART;TZID=America/Los_Angeles:20240312T180000
DTEND;TZID=America/Los_Angeles:20240312T210000
DTSTAMP:20260425T212008
CREATED:20240202T052928Z
LAST-MODIFIED:20240305T193847Z
UID:1906-1710266400-1710277200@marktowns.com
SUMMARY:Mark Towns Flamenco Jazz Guitar @ Sambuca Houston Tuesday 3/12/24
DESCRIPTION:Immerse yourself in an enchanting evening of Flamenco Jazz as virtuoso guitarist Mark Towns takes the stage solo at Sambuca Houston on Tuesday\, March 12\, 2024\, from 6 pm to 9 pm. Known for his captivating fusion of Flamenco and Jazz influences\, Towns delivers a mesmerizing performance that transcends genres\, weaving intricate melodies and rhythmic patterns with unparalleled skill and passion. Join us for a night of soul-stirring music and unforgettable moments as Towns’ spellbinding guitar artistry fills the air with magic. \nFlamenco Jazz Guitarist Mark Towns
URL:https://marktowns.com/event/mark-towns-flamenco-jazz-guitar-sambuca-houston-tuesday-3-12-24/
LOCATION:Sambuca Houston\, 909 Texas Ave.\, Houston\, TX\, 77002\, United States
END:VEVENT
BEGIN:VEVENT
DTSTART;VALUE=DATE:20240310
DTEND;VALUE=DATE:20240311
DTSTAMP:20260425T212008
CREATED:20240305T053622Z
LAST-MODIFIED:20240305T194057Z
UID:2020-1710028800-1710115199@marktowns.com
SUMMARY:Mark Towns Solo Flamenco Jazz Guitar @ Houston Freethought Oasis Sunday 3/10/24 10:30AM-Noon
DESCRIPTION:Join us at Houston Freethought Oasis on Sunday\, March 10th\, 2024\, from 10:30 AM to Noon\, where Mark Towns will be the morning’s musical guest\, performing solo Flamenco Jazz Guitar. Known for his captivating performances and masterful technique\, Mark Towns will transport you with the soulful melodies and intricate rhythms of his original compositions. Don’t miss out on this special program – free to attend.
URL:https://marktowns.com/event/mark-towns-solo-flamenco-jazz-guitar-houston-freethought-oasis-sunday-3-10-24-1030am-noon/
LOCATION:Houston Oasis\, 401 Branard St.\, Houston\, TX\, 77006\, United States
END:VEVENT
BEGIN:VEVENT
DTSTART;VALUE=DATE:20240309
DTEND;VALUE=DATE:20240310
DTSTAMP:20260425T212008
CREATED:20240305T050048Z
LAST-MODIFIED:20240305T050048Z
UID:2016-1709942400-1710028799@marktowns.com
SUMMARY:SANTANABRAXAS featuring Mark Towns @ Sambuca Houston Saturday 3/9/24 (8pm-Midnight)
DESCRIPTION:Join us Saturday\, March 9th\, 2024\, at Sambuca Houston for an electrifying performance by SANTANABRAXAS\, the ultimate Santana Tribute Band! Led by veteran Latin guitar whiz Mark Towns\, prepare to be mesmerized by their incredible lineup featuring some of the world’s best Latin Rock and Latin Jazz players: Rainel Pino on keys\, Jorge Lebron on timbales\, Gerardo Araujo on congas and vocals\, Felix Luna on bass and vocals\, Sam Dinkins III on drums\, and Keith Vivens on lead vocals and percussion. Immerse yourself in the iconic sounds of Santana\, delivered with passion and precision. From 8:00 pm to Midnight\, don’t miss this unforgettable night of music and groove. Admission is free\, so come and experience the magic! \n 
URL:https://marktowns.com/event/santanabraxas-featuring-mark-towns-sambuca-houston-saturday-3-9-24-8pm-midnight/
LOCATION:Sambuca Houston\, 909 Texas Ave.\, Houston\, TX\, 77002\, United States
END:VEVENT
BEGIN:VEVENT
DTSTART;TZID=America/Los_Angeles:20240225T160000
DTEND;TZID=America/Los_Angeles:20240225T173000
DTSTAMP:20260425T212008
CREATED:20230111T041152Z
LAST-MODIFIED:20240219T220457Z
UID:1703-1708876800-1708882200@marktowns.com
SUMMARY:Mark Towns Flamenco Jazz Band @ Salon on Buffalo Jazz Series\, Van Nuys\, CA Sunday 2/25/24
DESCRIPTION:Join us for a magical evening of music!  Mark Towns Flamenco Jazz Quartet is thrilled to present a special intimate house concert Sunday\, February 25th\, from 4:00 pm to 5:30 pm. Immerse yourself in the captivating enchantment of Mark’s albums “Essence” and “Flamenco Jazz Latino\,” featuring Mark on Spanish guitar\, accompanied by the exceptional talents of Joe Rotondi on piano\, Ross Schodek on upright bass\, and Roland Garcia on percussion. Seating is limited\, so don’t miss out on this exclusive experience! Reserve your spot by emailing event host Susan Krebs at suze@susankrebsmusic.com. This event is part of Susan’s acclaimed concert series\, Salon on Buffalo. Address will be provided upon confirmed reservation.  \nFlamenco Jazz Guitarist Mark Towns
URL:https://marktowns.com/event/mark-towns-flamenco-jazz-sunday-2-25-2024/
LOCATION:TX
END:VEVENT
BEGIN:VEVENT
DTSTART;TZID=America/Los_Angeles:20240209T183000
DTEND;TZID=America/Los_Angeles:20240209T223000
DTSTAMP:20260425T212008
CREATED:20240202T050528Z
LAST-MODIFIED:20240202T051911Z
UID:1900-1707503400-1707517800@marktowns.com
SUMMARY:Mark Towns (bass) with Dave Tull & Joe Rotondi @ Eddie V's El Segundo
DESCRIPTION:Experience a unique musical twist as Mark Towns\, renowned for his Flamenco Jazz guitar mastery\, steps into a new role as bassist alongside esteemed pianist Joe Rotondi and versatile drummer/vocalist Dave Tull at Eddie V’s El Segundo. Departing from his customary style\, Towns\, Tull\, and Rotondi deliver a captivating blend of Straight Ahead Jazz\, Latin Jazz\, Funk Jazz\, Brazilian Jazz\, Pop\, and R&B\, promising an evening filled with dynamic flair and unforgettable performances. Don’t miss this exciting collaboration showcasing Towns’ multifaceted talents and the collective magic of this dynamic trio. \nDave Tull • Mark Towns • Joe Rotondi
URL:https://marktowns.com/event/mark-towns-bass-with-dave-tull-trio-featuring-joe-rotondi-eddie-vs-el-segundo/
LOCATION:Eddie V’s El Segundo\, 2101 Rosecrans Ave.\, El Segundo\, CA\, 90245\, United States
END:VEVENT
BEGIN:VEVENT
DTSTART;TZID=America/Los_Angeles:20240107T100000
DTEND;TZID=America/Los_Angeles:20240107T130000
DTSTAMP:20260425T212008
CREATED:20230308T003813Z
LAST-MODIFIED:20231020T045620Z
UID:1739-1704621600-1704632400@marktowns.com
SUMMARY:Mark Towns Flamenco Jazz Guitar @ Montrose Harvest Market Sunday 1/7/24 10am-1pm
DESCRIPTION:Mark Towns will perform solo Flamenco Jazz\, Latin Jazz\, and Classical Guitar @ The Montrose Harvest Market (2300 block of Honolulu Ave. in Montrose\, CA) on Sunday 1/7/24 (10am – 1:00pm).
URL:https://marktowns.com/event/mark-towns-flamenco-jazz-guitar-montrose-harvest-market-sunday-10-15-23-10am-1pm/
LOCATION:Montrose Harvest Market\, 2300 block of Honolulu Ave.\, Montrose\, CA\, 91020\, United States
END:VEVENT
BEGIN:VEVENT
DTSTART;TZID=America/Los_Angeles:20231119T100000
DTEND;TZID=America/Los_Angeles:20231119T130000
DTSTAMP:20260425T212008
CREATED:20220524T195932Z
LAST-MODIFIED:20231020T051836Z
UID:1594-1700388000-1700398800@marktowns.com
SUMMARY:Mark Towns Flamenco Jazz Guitar @ Montrose CA Harvest Market Sunday 11/19/23\, 10am-1pm
DESCRIPTION:Mark Towns returns for an encore performance of Solo Flamenco Jazz Guitar at Montrose Harvest Market in the 2300 block of Honolulu Ave. on Sunday\, November 19\, 2023. Mark will perform selections from his critically-acclaimed albums Flamenco Jazz Latino\, Passion\, and Unspoken Invitation\, in addition to performing his unique solo finger-style guitar arrangements of classic gems by The Beatles\, Stevie Wonder\, Neil Young\, James Taylor\, and more. \nFlamenco Jazz guitarist Mark Towns
URL:https://marktowns.com/event/mark-towns-flamenco-jazz-guitar-montrose-harvest-market-sunday-11-19-23-10am-1pm/
LOCATION:Montrose Harvest Market\, 2300 block of Honolulu Ave.\, Montrose\, CA\, 91020\, United States
END:VEVENT
BEGIN:VEVENT
DTSTART;TZID=America/Los_Angeles:20231029T160000
DTEND;TZID=America/Los_Angeles:20231029T173000
DTSTAMP:20260425T212008
CREATED:20231020T071149Z
LAST-MODIFIED:20231020T071149Z
UID:1846-1698595200-1698600600@marktowns.com
SUMMARY:Mark Towns Flamenco Jazz Guitar @ Houston Polo Club Sunday 10/29/23 4pm
DESCRIPTION:Guitarist Mark Towns will perform Flamenco Jazz Guitar at the Houston Polo Club before and during the USPC Centennial Cup match on Sunday\, October 29\, 2023.
URL:https://marktowns.com/event/mark-towns-flamenco-jazz-guitar-houston-polo-club-sunday-10-29-23-4pm/
LOCATION:Houston Polo Club\, 8552 Memorial Dr\, Houston\, TX\, 77024\, United States
END:VEVENT
BEGIN:VEVENT
DTSTART;TZID=America/Los_Angeles:20231029T103000
DTEND;TZID=America/Los_Angeles:20231029T120000
DTSTAMP:20260425T212008
CREATED:20230111T034054Z
LAST-MODIFIED:20231023T155236Z
UID:1699-1698575400-1698580800@marktowns.com
SUMMARY:Mark Towns Flamenco Jazz Guitar @ Oasis Houston Sunday 10/29/23
DESCRIPTION:Oasis Houston features a solo performance by award-winning Flamenco Jazz guitarist Mark Towns on Sunday\, October 29\, 2023 10:30am – Noon. Oasis Houston has moved\, and is now located at 401 Branard St.\, Houston\, TX 77006. The event is free and open to the public.
URL:https://marktowns.com/event/mark-towns-flamenco-jazz-guitar-oasis-houston-sunday-10-29-23/
LOCATION:Houston Oasis\, 401 Branard St.\, Houston\, TX\, 77006\, United States
END:VEVENT
END:VCALENDAR