BEGIN:VCALENDAR
VERSION:2.0
PRODID:-//Mark Towns - ECPv6.15.20//NONSGML v1.0//EN
CALSCALE:GREGORIAN
METHOD:PUBLISH
X-ORIGINAL-URL:https://marktowns.com
X-WR-CALDESC:Events for Mark Towns
REFRESH-INTERVAL;VALUE=DURATION:PT1H
X-Robots-Tag:noindex
X-PUBLISHED-TTL:PT1H
BEGIN:VTIMEZONE
TZID:America/Los_Angeles
BEGIN:DAYLIGHT
TZOFFSETFROM:-0800
TZOFFSETTO:-0700
TZNAME:PDT
DTSTART:20250309T100000
END:DAYLIGHT
BEGIN:STANDARD
TZOFFSETFROM:-0700
TZOFFSETTO:-0800
TZNAME:PST
DTSTART:20251102T090000
END:STANDARD
BEGIN:DAYLIGHT
TZOFFSETFROM:-0800
TZOFFSETTO:-0700
TZNAME:PDT
DTSTART:20260308T100000
END:DAYLIGHT
BEGIN:STANDARD
TZOFFSETFROM:-0700
TZOFFSETTO:-0800
TZNAME:PST
DTSTART:20261101T090000
END:STANDARD
BEGIN:DAYLIGHT
TZOFFSETFROM:-0800
TZOFFSETTO:-0700
TZNAME:PDT
DTSTART:20270314T100000
END:DAYLIGHT
BEGIN:STANDARD
TZOFFSETFROM:-0700
TZOFFSETTO:-0800
TZNAME:PST
DTSTART:20271107T090000
END:STANDARD
END:VTIMEZONE
BEGIN:VEVENT
DTSTART;TZID=America/Los_Angeles:20260517T110000
DTEND;TZID=America/Los_Angeles:20260517T150000
DTSTAMP:20260425T081638
CREATED:20260417T152401Z
LAST-MODIFIED:20260417T152401Z
UID:2495-1779015600-1779030000@marktowns.com
SUMMARY:Mark Towns Flamenco Jazz Guitar @ Latuli Sunday Brunch 5/17/26
DESCRIPTION:Mark Towns – Solo Flamenco Jazz Guitar (Brunch)Sunday 5/17/26 | 11 AM – 3 PMLatuli8900 Gaylord Dr.\, Houston\, TX \nLive solo guitar blending Flamenco and Latin Jazz.
URL:https://marktowns.com/event/mark-towns-flamenco-jazz-guitar-latuli-sunday-brunch-5-17-26/
LOCATION:Latuli\, 8900 Gaylord Dr.\, Houston\, TX\, 77024\, United States
END:VEVENT
END:VCALENDAR