BEGIN:VCALENDAR
VERSION:2.0
PRODID:-//Mark Towns - ECPv6.15.20//NONSGML v1.0//EN
CALSCALE:GREGORIAN
METHOD:PUBLISH
X-WR-CALNAME:Mark Towns
X-ORIGINAL-URL:https://marktowns.com
X-WR-CALDESC:Events for Mark Towns
REFRESH-INTERVAL;VALUE=DURATION:PT1H
X-Robots-Tag:noindex
X-PUBLISHED-TTL:PT1H
BEGIN:VTIMEZONE
TZID:America/Los_Angeles
BEGIN:DAYLIGHT
TZOFFSETFROM:-0800
TZOFFSETTO:-0700
TZNAME:PDT
DTSTART:20250309T100000
END:DAYLIGHT
BEGIN:STANDARD
TZOFFSETFROM:-0700
TZOFFSETTO:-0800
TZNAME:PST
DTSTART:20251102T090000
END:STANDARD
BEGIN:DAYLIGHT
TZOFFSETFROM:-0800
TZOFFSETTO:-0700
TZNAME:PDT
DTSTART:20260308T100000
END:DAYLIGHT
BEGIN:STANDARD
TZOFFSETFROM:-0700
TZOFFSETTO:-0800
TZNAME:PST
DTSTART:20261101T090000
END:STANDARD
BEGIN:DAYLIGHT
TZOFFSETFROM:-0800
TZOFFSETTO:-0700
TZNAME:PDT
DTSTART:20270314T100000
END:DAYLIGHT
BEGIN:STANDARD
TZOFFSETFROM:-0700
TZOFFSETTO:-0800
TZNAME:PST
DTSTART:20271107T090000
END:STANDARD
END:VTIMEZONE
BEGIN:VEVENT
DTSTART;TZID=America/Los_Angeles:20260104T103000
DTEND;TZID=America/Los_Angeles:20260104T120000
DTSTAMP:20260425T070459
CREATED:20250718T213322Z
LAST-MODIFIED:20251231T135626Z
UID:2352-1767522600-1767528000@marktowns.com
SUMMARY:Mark Towns Essence @ Houston Oasis Sunday 1/4/26 10:30AM
DESCRIPTION:Flamenco Jazz Guitarist Mark Towns\nExperience Flamenco Jazz solo guitar by Mark Towns Essence at Houston Oasis on Sunday\, January 4\, 2026 at 10:30 AM. His live music will be featured before and during the program\, adding a dynamic musical layer to the morning’s gathering of community\, coffee\, conversation\, and inspiration.houstonoasis.org
URL:https://marktowns.com/event/mark-towns-flamenco-jazz-guitar-houston-oasis-sunday-1-4-1030am/
LOCATION:Houston Oasis\, 401 Branard St.\, Houston\, TX\, 77006\, United States
END:VEVENT
END:VCALENDAR