BEGIN:VCALENDAR
VERSION:2.0
PRODID:-//Mark Towns - ECPv6.15.20//NONSGML v1.0//EN
CALSCALE:GREGORIAN
METHOD:PUBLISH
X-WR-CALNAME:Mark Towns
X-ORIGINAL-URL:https://marktowns.com
X-WR-CALDESC:Events for Mark Towns
REFRESH-INTERVAL;VALUE=DURATION:PT1H
X-Robots-Tag:noindex
X-PUBLISHED-TTL:PT1H
BEGIN:VTIMEZONE
TZID:America/Los_Angeles
BEGIN:DAYLIGHT
TZOFFSETFROM:-0800
TZOFFSETTO:-0700
TZNAME:PDT
DTSTART:20240310T100000
END:DAYLIGHT
BEGIN:STANDARD
TZOFFSETFROM:-0700
TZOFFSETTO:-0800
TZNAME:PST
DTSTART:20241103T090000
END:STANDARD
BEGIN:DAYLIGHT
TZOFFSETFROM:-0800
TZOFFSETTO:-0700
TZNAME:PDT
DTSTART:20250309T100000
END:DAYLIGHT
BEGIN:STANDARD
TZOFFSETFROM:-0700
TZOFFSETTO:-0800
TZNAME:PST
DTSTART:20251102T090000
END:STANDARD
BEGIN:DAYLIGHT
TZOFFSETFROM:-0800
TZOFFSETTO:-0700
TZNAME:PDT
DTSTART:20260308T100000
END:DAYLIGHT
BEGIN:STANDARD
TZOFFSETFROM:-0700
TZOFFSETTO:-0800
TZNAME:PST
DTSTART:20261101T090000
END:STANDARD
END:VTIMEZONE
BEGIN:VEVENT
DTSTART;TZID=America/Los_Angeles:20250924T180000
DTEND;TZID=America/Los_Angeles:20250924T210000
DTSTAMP:20260425T121731
CREATED:20250805T235314Z
LAST-MODIFIED:20250805T235937Z
UID:2363-1758736800-1758747600@marktowns.com
SUMMARY:Mark Towns Flamenco Jazz @ Descanso Restaurant Costa Mesa Wed. 9/24 (6-9pm)
DESCRIPTION:Mark Towns – Flamenco JazzWednesday\, September 24\, 20256:00 – 9:00 PMDescanso Restaurant – Costa Mesa\, CA \nJoin guitarist Mark Towns for an evening of Flamenco inspired Latin Jazz Guitar at Descanso Restaurant Costa Mesa during their Wednesdays Summer Concert Series. \nReservations: Call 714‑486‑3798 or book online at descansorestaurant.com \nFlamenco Jazz Guitarist Mark Towns
URL:https://marktowns.com/event/mark-towns-flamenco-jazz-descanso-restaurant-costa-mesa-wed-9-24-6-9pm/
LOCATION:Descanso Restaurant Costa Mesa\, 1555 Adams Ave.\, Costa Mesa\, CA\, 92626\, United States
END:VEVENT
END:VCALENDAR