BEGIN:VCALENDAR
VERSION:2.0
PRODID:-//Mark Towns - ECPv6.15.20//NONSGML v1.0//EN
CALSCALE:GREGORIAN
METHOD:PUBLISH
X-ORIGINAL-URL:https://marktowns.com
X-WR-CALDESC:Events for Mark Towns
REFRESH-INTERVAL;VALUE=DURATION:PT1H
X-Robots-Tag:noindex
X-PUBLISHED-TTL:PT1H
BEGIN:VTIMEZONE
TZID:America/Los_Angeles
BEGIN:DAYLIGHT
TZOFFSETFROM:-0800
TZOFFSETTO:-0700
TZNAME:PDT
DTSTART:20240310T100000
END:DAYLIGHT
BEGIN:STANDARD
TZOFFSETFROM:-0700
TZOFFSETTO:-0800
TZNAME:PST
DTSTART:20241103T090000
END:STANDARD
BEGIN:DAYLIGHT
TZOFFSETFROM:-0800
TZOFFSETTO:-0700
TZNAME:PDT
DTSTART:20250309T100000
END:DAYLIGHT
BEGIN:STANDARD
TZOFFSETFROM:-0700
TZOFFSETTO:-0800
TZNAME:PST
DTSTART:20251102T090000
END:STANDARD
BEGIN:DAYLIGHT
TZOFFSETFROM:-0800
TZOFFSETTO:-0700
TZNAME:PDT
DTSTART:20260308T100000
END:DAYLIGHT
BEGIN:STANDARD
TZOFFSETFROM:-0700
TZOFFSETTO:-0800
TZNAME:PST
DTSTART:20261101T090000
END:STANDARD
END:VTIMEZONE
BEGIN:VEVENT
DTSTART;VALUE=DATE:20250823
DTEND;VALUE=DATE:20250824
DTSTAMP:20260425T133853
CREATED:20250820T175354Z
LAST-MODIFIED:20250820T175410Z
UID:2381-1755907200-1755993599@marktowns.com
SUMMARY:Mark Towns Flamenco Jazz Guitar @ Hilton L.A. Universal City Sat. 8/23/25
DESCRIPTION:Mark Towns Flamenco Jazz GuitarHilton LA Universal CitySaturday\, August 23\, 2025 \nTwo performances:• Brunch Matinee – 11:00 AM–2:00 PM• Evening Dinner Performance – 5:00–8:00 PM \nExperience the enchanting sounds of Flamenco Jazz and Latin Jazz guitar with Mark Towns in an elegant setting at Café Sierra\, located inside the Hilton LA Universal City.
URL:https://marktowns.com/event/mark-towns-flamenco-jazz-guitar-hilton-l-a-universal-city/
LOCATION:Cafe Sierra @ Hilton L.A. Universal City\, 555 Universal Hollywood Dr.\, CA\, 91608\, United States
END:VEVENT
END:VCALENDAR