BEGIN:VCALENDAR
VERSION:2.0
PRODID:-//Mark Towns - ECPv6.15.20//NONSGML v1.0//EN
CALSCALE:GREGORIAN
METHOD:PUBLISH
X-WR-CALNAME:Mark Towns
X-ORIGINAL-URL:https://marktowns.com
X-WR-CALDESC:Events for Mark Towns
REFRESH-INTERVAL;VALUE=DURATION:PT1H
X-Robots-Tag:noindex
X-PUBLISHED-TTL:PT1H
BEGIN:VTIMEZONE
TZID:America/Los_Angeles
BEGIN:DAYLIGHT
TZOFFSETFROM:-0800
TZOFFSETTO:-0700
TZNAME:PDT
DTSTART:20240310T100000
END:DAYLIGHT
BEGIN:STANDARD
TZOFFSETFROM:-0700
TZOFFSETTO:-0800
TZNAME:PST
DTSTART:20241103T090000
END:STANDARD
BEGIN:DAYLIGHT
TZOFFSETFROM:-0800
TZOFFSETTO:-0700
TZNAME:PDT
DTSTART:20250309T100000
END:DAYLIGHT
BEGIN:STANDARD
TZOFFSETFROM:-0700
TZOFFSETTO:-0800
TZNAME:PST
DTSTART:20251102T090000
END:STANDARD
BEGIN:DAYLIGHT
TZOFFSETFROM:-0800
TZOFFSETTO:-0700
TZNAME:PDT
DTSTART:20260308T100000
END:DAYLIGHT
BEGIN:STANDARD
TZOFFSETFROM:-0700
TZOFFSETTO:-0800
TZNAME:PST
DTSTART:20261101T090000
END:STANDARD
END:VTIMEZONE
BEGIN:VEVENT
DTSTART;TZID=America/Los_Angeles:20250814T193000
DTEND;TZID=America/Los_Angeles:20250814T223000
DTSTAMP:20260425T133421
CREATED:20250801T183836Z
LAST-MODIFIED:20250805T235852Z
UID:2361-1755199800-1755210600@marktowns.com
SUMMARY:Mark Towns Flamenco Jazz Band @ Emmit's Place\, Thursday 8/14/25 (7:30-10:30pm)
DESCRIPTION:Join guitarist Mark Towns for an evening of Flamenco Jazz Latino\, joined by bassist Felix Luna\, keyboardist Pelayo Parlade\, and Peruvian cajón virtuoso/percussionist BiDiGi for a night of rhythmic interplay\, improvisation\, and  Latin Jazz sounds at one of Houston’s favorite listening rooms. \nFlamenco Jazz Guitarist Mark Towns\n 
URL:https://marktowns.com/event/mark-towns-flamenco-jazz-trio-emmits-place-thursday-8-14-25-730-1030pm/
LOCATION:Emmit’s Place\, 4852 Benning Dr.\, Houston\, TX\, 77035\, United States
END:VEVENT
END:VCALENDAR