BEGIN:VCALENDAR
VERSION:2.0
PRODID:-//Mark Towns - ECPv6.15.20//NONSGML v1.0//EN
CALSCALE:GREGORIAN
METHOD:PUBLISH
X-WR-CALNAME:Mark Towns
X-ORIGINAL-URL:https://marktowns.com
X-WR-CALDESC:Events for Mark Towns
REFRESH-INTERVAL;VALUE=DURATION:PT1H
X-Robots-Tag:noindex
X-PUBLISHED-TTL:PT1H
BEGIN:VTIMEZONE
TZID:America/Los_Angeles
BEGIN:DAYLIGHT
TZOFFSETFROM:-0800
TZOFFSETTO:-0700
TZNAME:PDT
DTSTART:20240310T100000
END:DAYLIGHT
BEGIN:STANDARD
TZOFFSETFROM:-0700
TZOFFSETTO:-0800
TZNAME:PST
DTSTART:20241103T090000
END:STANDARD
BEGIN:DAYLIGHT
TZOFFSETFROM:-0800
TZOFFSETTO:-0700
TZNAME:PDT
DTSTART:20250309T100000
END:DAYLIGHT
BEGIN:STANDARD
TZOFFSETFROM:-0700
TZOFFSETTO:-0800
TZNAME:PST
DTSTART:20251102T090000
END:STANDARD
BEGIN:DAYLIGHT
TZOFFSETFROM:-0800
TZOFFSETTO:-0700
TZNAME:PDT
DTSTART:20260308T100000
END:DAYLIGHT
BEGIN:STANDARD
TZOFFSETFROM:-0700
TZOFFSETTO:-0800
TZNAME:PST
DTSTART:20261101T090000
END:STANDARD
END:VTIMEZONE
BEGIN:VEVENT
DTSTART;TZID=America/Los_Angeles:20250607T110000
DTEND;TZID=America/Los_Angeles:20250607T200000
DTSTAMP:20260425T162151
CREATED:20250520T051345Z
LAST-MODIFIED:20250520T051345Z
UID:2296-1749294000-1749326400@marktowns.com
SUMMARY:Mark Towns Flamenco Jazz Guitar @ Hilton Universal City L.A. Sat. 6/7/25\, 11am-2pm & 5-8pm
DESCRIPTION:Mark Towns Flamenco Jazz Guitar at The Hilton LA Universal City (inside Café Sierra)\nJoin Mark Towns for a day of live Flamenco Jazz guitar at The Hilton LA Universal City\, performing inside Café Sierra.\nSaturday\, June 7\, 2025\nPerformances:\n• 11:00 AM – 2:00 PM\n• 5:00 PM – 8:00 PM
URL:https://marktowns.com/event/mark-towns-flamenco-jazz-guitar-hilton-universal-city-l-a-sat-6-7-25/
LOCATION:Cafe Sierra @ Hilton L.A. Universal City\, 555 Universal Hollywood Dr.\, CA\, 91608\, United States
END:VEVENT
END:VCALENDAR