BEGIN:VCALENDAR
VERSION:2.0
PRODID:-//Mark Towns - ECPv6.15.20//NONSGML v1.0//EN
CALSCALE:GREGORIAN
METHOD:PUBLISH
X-ORIGINAL-URL:https://marktowns.com
X-WR-CALDESC:Events for Mark Towns
REFRESH-INTERVAL;VALUE=DURATION:PT1H
X-Robots-Tag:noindex
X-PUBLISHED-TTL:PT1H
BEGIN:VTIMEZONE
TZID:America/Los_Angeles
BEGIN:DAYLIGHT
TZOFFSETFROM:-0800
TZOFFSETTO:-0700
TZNAME:PDT
DTSTART:20240310T100000
END:DAYLIGHT
BEGIN:STANDARD
TZOFFSETFROM:-0700
TZOFFSETTO:-0800
TZNAME:PST
DTSTART:20241103T090000
END:STANDARD
BEGIN:DAYLIGHT
TZOFFSETFROM:-0800
TZOFFSETTO:-0700
TZNAME:PDT
DTSTART:20250309T100000
END:DAYLIGHT
BEGIN:STANDARD
TZOFFSETFROM:-0700
TZOFFSETTO:-0800
TZNAME:PST
DTSTART:20251102T090000
END:STANDARD
BEGIN:DAYLIGHT
TZOFFSETFROM:-0800
TZOFFSETTO:-0700
TZNAME:PDT
DTSTART:20260308T100000
END:DAYLIGHT
BEGIN:STANDARD
TZOFFSETFROM:-0700
TZOFFSETTO:-0800
TZNAME:PST
DTSTART:20261101T090000
END:STANDARD
END:VTIMEZONE
BEGIN:VEVENT
DTSTART;TZID=America/Los_Angeles:20250426T193000
DTEND;TZID=America/Los_Angeles:20250426T201500
DTSTAMP:20260425T184824
CREATED:20250422T200104Z
LAST-MODIFIED:20250422T200104Z
UID:2199-1745695800-1745698500@marktowns.com
SUMMARY:Mark Towns with Bongo Surfo @ Eclectic Festival S. Pasadena CA Saturday 4/26/25 7:30pm
DESCRIPTION:🎸🌴 Catch Bongo Surfo Live at The Eclectic Festival! 🌴🎸Saturday\, April 26\, 2025 | FREE SHOWGet ready for a tropical blast of fun as Bongo Surfo brings their signature blend of Tropical Surf Rock to the Eclectic Festival in South Pasadena! This all-star instrumental band serves up beach party vibes with a spicy twist — mixing vintage surf rock with tropical rock\, cumbia\, West African rhythms\, reggae\, and even a splash of hip-hop fusion.\nStage at the former Carrow’s Parking Lot – 815 Fremont Ave\, South Pasadena\, CA 91030 (Fremont @ Mission St.) \n🎶 Featuring:🔥 Mark Towns – Guitar wizard behind the beachy vibes🎹 Sunnie Paxson – Vox Jaguar organ & keys (formerly with Stanley Clarke)🪘 Munyungo Jackson – Percussion legend (Stevie Wonder’s percussionist for 30+ years!)🎸 Ross Schodek – Bassist for Poncho Sanchez’s Latin Jazz Band🥁 Stewart Jean – Drums (former head of drum dept. at Musicians Institute) \nBring your friends\, your flip-flops\, and your festival spirit — and come dance with us under the sun at one of SoCal’s coolest community music events. 🎉☀️ \n🕖 7:30pm – 8:15pm📍 Former Carrow’s Parking Lot Stage💵 FREE Admission | All Ages Welcome \n#BongoSurfo #EclecticFestival #SouthPasadenaEvents #SurfRock #TropicalVibes #LiveMusic #FreeConcert #SoCalFestivalVibes
URL:https://marktowns.com/event/mark-towns-with-bongo-surfo-eclectic-festival-s-pasadena-ca-saturday-4-26-25-730pm/
LOCATION:Eclectic Festival\, 911 Fairview Ave.\, South Pasadena\, CA\, 91030\, United States
END:VEVENT
END:VCALENDAR