BEGIN:VCALENDAR
VERSION:2.0
PRODID:-//Mark Towns - ECPv6.15.20//NONSGML v1.0//EN
CALSCALE:GREGORIAN
METHOD:PUBLISH
X-WR-CALNAME:Mark Towns
X-ORIGINAL-URL:https://marktowns.com
X-WR-CALDESC:Events for Mark Towns
REFRESH-INTERVAL;VALUE=DURATION:PT1H
X-Robots-Tag:noindex
X-PUBLISHED-TTL:PT1H
BEGIN:VTIMEZONE
TZID:America/Los_Angeles
BEGIN:DAYLIGHT
TZOFFSETFROM:-0800
TZOFFSETTO:-0700
TZNAME:PDT
DTSTART:20240310T100000
END:DAYLIGHT
BEGIN:STANDARD
TZOFFSETFROM:-0700
TZOFFSETTO:-0800
TZNAME:PST
DTSTART:20241103T090000
END:STANDARD
BEGIN:DAYLIGHT
TZOFFSETFROM:-0800
TZOFFSETTO:-0700
TZNAME:PDT
DTSTART:20250309T100000
END:DAYLIGHT
BEGIN:STANDARD
TZOFFSETFROM:-0700
TZOFFSETTO:-0800
TZNAME:PST
DTSTART:20251102T090000
END:STANDARD
BEGIN:DAYLIGHT
TZOFFSETFROM:-0800
TZOFFSETTO:-0700
TZNAME:PDT
DTSTART:20260308T100000
END:DAYLIGHT
BEGIN:STANDARD
TZOFFSETFROM:-0700
TZOFFSETTO:-0800
TZNAME:PST
DTSTART:20261101T090000
END:STANDARD
END:VTIMEZONE
BEGIN:VEVENT
DTSTART;TZID=America/Los_Angeles:20250209T103000
DTEND;TZID=America/Los_Angeles:20250209T103000
DTSTAMP:20260425T210842
CREATED:20250120T234205Z
LAST-MODIFIED:20250120T234205Z
UID:2130-1739097000-1739097000@marktowns.com
SUMMARY:Mark Towns Flamenco Jazz Guitar @ Houston Oasis Sunday 2/9 (10:30am-Noon)
DESCRIPTION:Join Mark Towns for a Flamenco Jazz guitar performance at Houston Oasis on Sunday\, February 9\, from 10:30 AM to Noon. Mark will be performing at various times throughout the Sunday Oasis event. Houston Oasis is a welcoming secular community that invites everyone to join their weekly Sunday gathering\, which includes engaging discussions\, a thought-provoking talk\, coffee\, snacks\, and live music.
URL:https://marktowns.com/event/mark-towns-flamenco-jazz-guitar-houston-oasis-sunday-2-9-1030am-noon/
LOCATION:Houston Oasis\, 401 Branard St.\, Houston\, TX\, 77006\, United States
END:VEVENT
END:VCALENDAR